BEGIN:VCALENDAR
VERSION:2.0
PRODID:-//Blizzard Ski and Snowboard School - ECPv6.15.20//NONSGML v1.0//EN
CALSCALE:GREGORIAN
METHOD:PUBLISH
X-ORIGINAL-URL:https://blizzardmn.com
X-WR-CALDESC:Events for Blizzard Ski and Snowboard School
REFRESH-INTERVAL;VALUE=DURATION:PT1H
X-Robots-Tag:noindex
X-PUBLISHED-TTL:PT1H
BEGIN:VTIMEZONE
TZID:America/Menominee
BEGIN:DAYLIGHT
TZOFFSETFROM:-0600
TZOFFSETTO:-0500
TZNAME:CDT
DTSTART:20250309T080000
END:DAYLIGHT
BEGIN:STANDARD
TZOFFSETFROM:-0500
TZOFFSETTO:-0600
TZNAME:CST
DTSTART:20251102T070000
END:STANDARD
BEGIN:DAYLIGHT
TZOFFSETFROM:-0600
TZOFFSETTO:-0500
TZNAME:CDT
DTSTART:20260308T080000
END:DAYLIGHT
BEGIN:STANDARD
TZOFFSETFROM:-0500
TZOFFSETTO:-0600
TZNAME:CST
DTSTART:20261101T070000
END:STANDARD
BEGIN:DAYLIGHT
TZOFFSETFROM:-0600
TZOFFSETTO:-0500
TZNAME:CDT
DTSTART:20270314T080000
END:DAYLIGHT
BEGIN:STANDARD
TZOFFSETFROM:-0500
TZOFFSETTO:-0600
TZNAME:CST
DTSTART:20271107T070000
END:STANDARD
END:VTIMEZONE
BEGIN:VEVENT
DTSTART;TZID=America/Menominee:20260110T080000
DTEND;TZID=America/Menominee:20260110T170000
DTSTAMP:20260421T170703
CREATED:20250825T162532Z
LAST-MODIFIED:20260109T051835Z
UID:8531-1768032000-1768064400@blizzardmn.com
SUMMARY:Saturday Blizzard Trip #4 @ Trollhaugen
DESCRIPTION:Happy New Year! We hope you enjoyed Winter Break and are excited to see your Blizzard friends again! \nMites Program\nOur littles members\, the Mites\, start this week! We are SO excited!!! Our Kindergarten and 1st graders ride the bus like everyone else\, and then begin their day inside the chalet. It’s a great way to start their winter adventure with Blizzard. \nLessons & Buses\n\nLesson Schedule\nBus Routes\nSpecific bus stop locations\nInviting a guest?\n\n\n\n\nBus Stop\nDepart\nReturn\n\n\nChanhassen\n8:00 AM\n5:30 PM\n\n\nChaska\n7:45 AM\n5:45 PM\n\n\nEdina – City Hall\n8:00 AM\n5:30 PM\n\n\nGolden Valley\n8:00 AM\n5:30 PM\n\n\nHighland Park\n8:15 AM\n5:15 PM\n\n\nLong Lake/Orono\n8:15 AM\n5:15 PM\n\n\nMaple Grove\n8:15 AM\n5:15 PM\n\n\nMinneapolis – Justice Page\n8:15 AM\n5:15 PM\n\n\nMinnetonka – 7 Hi\n7:45 AM\n5:45 PM\n\n\nMinnetonka – Ridgedale\n8:15 AM\n5:15 PM\n\n\nMound/Spring Park\n7:45 AM\n5:45 PM\n\n\nOtsego\n7:45 AM\n5:45 PM\n\n\nPlymouth West\n8:00 AM\n5:30 PM\n\n\nShoreview\n8:30 AM\n5:00 PM\n\n\nSt. Louis Park\n8:15 AM\n5:15 PM
URL:https://blizzardmn.com/event/saturday-blizzard-trip-4-trollhaugen-2/
LOCATION:Trollhaugen\, 2232 100th Ave\, Dresser\, WI\, 54009
ATTACH;FMTTYPE=image/png:https://blizzardmn.com/wp-content/uploads/trollhaugen-logo-11.png
END:VEVENT
BEGIN:VEVENT
DTSTART;TZID=America/Menominee:20260111T080000
DTEND;TZID=America/Menominee:20260111T170000
DTSTAMP:20260421T170703
CREATED:20250825T162618Z
LAST-MODIFIED:20260109T051850Z
UID:8533-1768118400-1768150800@blizzardmn.com
SUMMARY:Sunday Blizzard Trip #4 @ Trollhaugen
DESCRIPTION:Happy New Year! We hope you enjoyed Winter Break and are excited to see your Blizzard friends again! \nMites Program\nOur littles members\, the Mites\, start this week! We are SO excited!!! Our Kindergarten and 1st graders ride the bus like everyone else\, and then begin their day inside the chalet. It’s a great way to start their winter adventure with Blizzard. \nLessons & Buses\n\nLesson Schedule\nBus Routes\nSpecific bus stop locations\nInviting a guest?\n\n\n\n\nBus Stop\nDepart\nReturn\n\n\nChanhassen\n7:45 AM\n5:45 PM\n\n\nChaska\n7:45 AM\n5:45 PM\n\n\nEdina – City Hall\n8:00 AM\n5:30 PM\n\n\nGolden Valley\n8:15 AM\n5:15 PM\n\n\nHighland Park\n8:15 AM\n5:15 PM\n\n\nLong Lake/Orono\n8:15 AM\n5:15 PM\n\n\nMaple Grove\n8:15 AM\n5:15 PM\n\n\nMinneapolis – Justice Page\n8:15 AM\n5:15 PM\n\n\nMinnetonka – 7 Hi\n8:15 AM\n5:15 PM\n\n\nMinnetonka – Ridgedale\n8:00 AM\n5:30 PM\n\n\nPlymouth West\n8:00 AM\n5:30 PM\n\n\nShoreview\n8:30 AM\n5:00 PM\n\n\nSt. Louis Park\n8:00 AM\n5:30 PM
URL:https://blizzardmn.com/event/sunday-blizzard-trip-4-trollhaugen-2/
LOCATION:Trollhaugen\, 2232 100th Ave\, Dresser\, WI\, 54009
ATTACH;FMTTYPE=image/png:https://blizzardmn.com/wp-content/uploads/trollhaugen-logo-11.png
END:VEVENT
BEGIN:VEVENT
DTSTART;TZID=America/Menominee:20260117T080000
DTEND;TZID=America/Menominee:20260117T170000
DTSTAMP:20260421T170703
CREATED:20250825T162738Z
LAST-MODIFIED:20260116T055515Z
UID:8535-1768636800-1768669200@blizzardmn.com
SUMMARY:Saturday Blizzard Trip #5 @ Powder Ridge
DESCRIPTION:Time to head west for our first trip to Powder Ridge! Please note that many bus times will likely be different than previous weeks. We love the mini terrain park and of course the fresh\, third-generation\, homemade donuts! 🙂 \nClassic Pop-up Groups start this week! Find this week’s topic\, times and locations on the lesson schedule posted online later this week. It’s another exciting way to have fun with your Blizzard friends! \nLessons & Buses\n\nLesson Schedule\nBus Routes\nSpecific bus stop locations\nInviting a guest?\n\n\n\n\nBus Stop\nDepart\nReturn\n\n\nChanhassen\n8:00 AM\n5:30 PM\n\n\nChaska\n7:45 AM\n5:45 PM\n\n\nEdina – City Hall\n8:15 AM\n5:15 PM\n\n\nGolden Valley\n8:00 AM\n5:30 PM\n\n\nHighland Park\n7:45 AM\n5:45 PM\n\n\nLong Lake/Orono\n8:15 AM\n5:15 PM\n\n\nMaple Grove\n8:30 AM\n5:00 PM\n\n\nMinneapolis – Justice Page\n8:00 AM\n5:30 PM\n\n\nMinnetonka – 7 Hi\n8:15 AM\n5:15 PM\n\n\nMinnetonka – Ridgedale\n8:15 AM\n5:15 PM\n\n\nMound/Spring Park\n8:00 AM\n5:30 PM\n\n\nOtsego\n8:30 AM\n5:00 PM\n\n\nPlymouth West\n8:15 AM\n5:15 PM\n\n\nShoreview\n7:45 AM\n5:45 PM\n\n\nSt. Louis Park\n8:15 AM\n5:15 PM
URL:https://blizzardmn.com/event/saturday-blizzard-trip-5-powder-ridge-2/
LOCATION:Powder Ridge\, 15015 93rd Ave\, Kimball\, MN\, 55353
ATTACH;FMTTYPE=image/png:https://blizzardmn.com/wp-content/uploads/Powder-Ridge002.png
END:VEVENT
BEGIN:VEVENT
DTSTART;TZID=America/Menominee:20260118T080000
DTEND;TZID=America/Menominee:20260118T170000
DTSTAMP:20260421T170703
CREATED:20250825T162833Z
LAST-MODIFIED:20260116T055531Z
UID:8537-1768723200-1768755600@blizzardmn.com
SUMMARY:Sunday Blizzard Trip #5 @ Powder Ridge
DESCRIPTION:Time to head west for our first trip to Powder Ridge! Please note that many bus times will likely be different than previous weeks. We love the mini terrain park and of course the fresh\, third-generation\, homemade donuts! 🙂 \nClassic Pop-up Groups start this week! Find this week’s topic\, times and locations on the lesson schedule posted online later this week. It’s another exciting way to have fun with your Blizzard friends! \nLessons & Buses\n\nLesson Schedule\nBus Routes\nSpecific bus stop locations\nInviting a guest?\n\n\n\n\nBus Stop\nDepart\nReturn\n\n\nChanhassen\n8:15 AM\n5:15 PM\n\n\nChaska\n7:45 AM\n5:45 PM\n\n\nEdina – City Hall\n8:15 AM\n5:15 PM\n\n\nGolden Valley\n8:15 AM\n5:15 PM\n\n\nHighland Park\n7:45 AM\n5:45 PM\n\n\nLong Lake/Orono\n8:15 AM\n5:15 PM\n\n\nMaple Grove\n8:30 AM\n5:00 PM\n\n\nMinneapolis – Justice Page\n8:00 AM\n5:30 PM\n\n\nMinnetonka – 7 Hi\n8:15 AM\n5:15 PM\n\n\nMinnetonka – Ridgedale\n8:00 AM\n5:30 PM\n\n\nPlymouth West\n8:30 AM\n5:00 PM\n\n\nShoreview\n8:00 AM\n5:30 PM\n\n\nSt. Louis Park\n8:00 AM\n5:30 PM
URL:https://blizzardmn.com/event/sunday-blizzard-trip-5-powder-ridge-2/
LOCATION:Powder Ridge\, 15015 93rd Ave\, Kimball\, MN\, 55353
ATTACH;FMTTYPE=image/png:https://blizzardmn.com/wp-content/uploads/Powder-Ridge002.png
END:VEVENT
BEGIN:VEVENT
DTSTART;TZID=America/Menominee:20260119T080000
DTEND;TZID=America/Menominee:20260119T170000
DTSTAMP:20260421T170703
CREATED:20250825T164128Z
LAST-MODIFIED:20260116T053137Z
UID:8561-1768809600-1768842000@blizzardmn.com
SUMMARY:MLK Day School's Out Bonus Trip @ Afton Alps
DESCRIPTION:School’s out! Hit the slopes with Blizzard Ski & Snowboard School!\nEnjoy a full day of skiing or snowboarding at Afton Alps. Each trip includes a lift ticket and round-trip bus transportation\, plus optional equipment rental and one-hour beginner lesson at no extra cost. \nThe reservation deadline for this event is Thursday\, 1/15/2026 at 8:00 PM. You MUST be pre-registered AND RSVP to attend this trip.\n \nCOMPLETE INFO & REGISTRATION \nSPECIAL WAIVERS REQUIRED!\nVail Resorts\, which owns Afton Alps\, requires Vail Resorts waivers ONCE PER SEASON for every participant. (This is different than the MNSAA 1Risk waiver required by other areas.) Nobody may board a bus or receive a lift ticket without providing a signed waiver. Download\, print\, and complete waivers here. \nRental and/or beginner lesson: You must complete a request form for each trip (login required\, then click Forms/Waivers). The request form is now closed. \nCost\n\nTrip Fee: $90\nIf you make a reservation for a specific trip and do not attend\, you will be charged a $45 No-Show Fee (If your child is sick\, please stay home and call the office.)\nSee our Payment Info FAQ for complete details\nAfton Alps is cashless. All major cards\, Apple Pay\, and resort-charge are accepted. See the Afton Alps website for details.\n\nBus Stops\n>> Final Bus Routes \nIf you drive: Pick up lift tickets from the Blizzard Table inside the MEADOWS CHALET BY 10:30 AM. (Afton Alps has FOUR chalets! We are at Meadows.) Check your child(ren) out from the Blizzard Table by 3:30 PM. \nFor specific locations and directions to bus stops\, see our bus stop map. Important: Not all Blizzard bus stops are available for School’s Out Trips! \n\n\n\nBus Stop\nDepart\nReturn\n\n\nChanhassen\n8:15 AM\n5:30 PM\n\n\nChaska\n8:00 AM\n5:45 PM\n\n\nEdina – City Hall\n8:45 AM\n5:00 PM\n\n\nHighland Park\n9:00 AM\n4:45 PM\n\n\nLong Lake/Orono\n8:00 AM\n5:45 PM\n\n\nMinnetonka – Ridgedale\n8:15 AM\n5:30 PM\n\n\nOtsego\n7:45 AM\n6:00 PM\n\n\nShoreview\n8:30 AM\n5:15 PM\n\n\nSt. Louis Park\n8:45 AM\n5:00 PM
URL:https://blizzardmn.com/event/bonus-trip-2-teen-family-trip-afton-alps-2/
LOCATION:Afton Alps\, 6600 Peller Avenue South\, Hastings\, MN\, 55033
ATTACH;FMTTYPE=image/png:https://blizzardmn.com/wp-content/uploads/AFtonAlpsLogo250-e1725386704630.png
END:VEVENT
BEGIN:VEVENT
DTSTART;TZID=America/Menominee:20260124T080000
DTEND;TZID=America/Menominee:20260124T170000
DTSTAMP:20260421T170703
CREATED:20250825T163032Z
LAST-MODIFIED:20260123T155513Z
UID:8542-1769241600-1769274000@blizzardmn.com
SUMMARY:Saturday Blizzard Trip #6 @ Mount Kato - CANCELED
DESCRIPTION:Due to the extreme cold weather\, we have made the difficult decision to cancel both the Saturday and Sunday trips this weekend. \nIt’s time to travel south to Mankato! Watch for the Jolly Green Giant and Little Sprout on the left just before Le Sueur! Please note that many bus times will likely be different than previous weeks. \nClassic Pop-up Groups continue this week! Find this week’s topic\, times and locations on the lesson schedule posted online later this week. It’s another exciting way to have fun with your Blizzard friends! \nLessons & Buses\n\nLesson Schedule (coming Friday!)\nBus Routes (coming Friday!)\nSpecific bus stop locations\nInviting a guest?\n\n\n\n\nBus Stop\nDepart\nReturn\n\n\nChanhassen\n8:15 AM\n5:15 PM\n\n\nChaska\n8:30 AM\n5:00 PM\n\n\nEdina – City Hall\n8:00 AM\n5:15 PM\n\n\nGolden Valley\n7:45 AM\n5:45 PM\n\n\nHighland Park\n7:45 AM\n5:45 PM\n\n\nLong Lake/Orono\n8:00 AM\n5:15 PM\n\n\nMaple Grove\n8:00 AM\n5:15 PM\n\n\nMinneapolis – Justice Page\n7:45 AM\n5:45 PM\n\n\nMinnetonka – 7 Hi\n8:00 AM\n5:15 PM\n\n\nMinnetonka – Ridgedale\n8:00 AM\n5:15 PM\n\n\nMound/Spring Park\n7:45 AM\n5:45 PM\n\n\nOtsego\n7:30 AM\n6:00 PM\n\n\nPlymouth West\n8:00 AM\n5:15 PM\n\n\nShoreview\n7:30 AM\n6:00 PM\n\n\nSt. Louis Park\n8:00 AM\n5:15 PM
URL:https://blizzardmn.com/event/saturday-blizzard-trip-6-mount-kato-2/
LOCATION:Mount Kato\, 20461 Old Highway 66\, Mankato\, MN\, 56001
ATTACH;FMTTYPE=image/jpeg:https://blizzardmn.com/wp-content/uploads/Mount-Kato003.jpg
END:VEVENT
BEGIN:VEVENT
DTSTART;TZID=America/Menominee:20260125T080000
DTEND;TZID=America/Menominee:20260125T170000
DTSTAMP:20260421T170703
CREATED:20250825T162946Z
LAST-MODIFIED:20260123T155521Z
UID:8539-1769328000-1769360400@blizzardmn.com
SUMMARY:Sunday Blizzard Trip #6 @ Mount Kato - CANCELED
DESCRIPTION:Due to the extreme cold weather\, we have made the difficult decision to cancel both the Saturday and Sunday trips this weekend. \nIt’s time to travel south to Mankato! Watch for the Jolly Green Giant and Little Sprout on the left just before Le Sueur! Please note that many bus times will likely be different than previous weeks. \nClassic Pop-up Groups continue this week! Find this week’s topic\, times and locations on the lesson schedule posted online later this week. It’s another exciting way to have fun with your Blizzard friends! \nLessons & Buses\n\nLesson Schedule (coming Friday!)\nBus Routes (coming Friday!)\nSpecific bus stop locations\nInviting a guest?\n\n\n\n\nBus Stop\nDepart\nReturn\n\n\nChanhassen\n8:15 AM\n5:15 PM\n\n\nChaska\n8:30 AM\n5:00 PM\n\n\nEdina – City Hall\n8:00 AM\n5:15 PM\n\n\nGolden Valley\n7:45 AM\n5:45 PM\n\n\nHighland Park\n7:45 AM\n5:45 PM\n\n\nLong Lake/Orono\n8:00 AM\n5:15 PM\n\n\nMaple Grove\n8:00 AM\n5:15 PM\n\n\nMinneapolis – Justice Page\n7:45 AM\n5:45 PM\n\n\nMinnetonka – 7 Hi\n8:15 AM\n5:15 PM\n\n\nMinnetonka – Ridgedale\n8:15 AM\n5:15 PM\n\n\nPlymouth West\n8:00 AM\n5:15 PM\n\n\nShoreview\n7:30 AM\n6:00 PM\n\n\nSt. Louis Park\n8:00 AM\n5:15 PM
URL:https://blizzardmn.com/event/sunday-blizzard-trip-6-mount-kato-2/
LOCATION:Mount Kato\, 20461 Old Highway 66\, Mankato\, MN\, 56001
ATTACH;FMTTYPE=image/jpeg:https://blizzardmn.com/wp-content/uploads/Mount-Kato003.jpg
END:VEVENT
BEGIN:VEVENT
DTSTART;TZID=America/Menominee:20260131T080000
DTEND;TZID=America/Menominee:20260131T170000
DTSTAMP:20260421T170703
CREATED:20250825T163150Z
LAST-MODIFIED:20260130T171408Z
UID:8544-1769846400-1769878800@blizzardmn.com
SUMMARY:Saturday Blizzard Trip #7 @ Wild Mountain
DESCRIPTION:Parent Breakthrough Program: We’re extending one more week due to the canceled trip; next week will be the final week! \nClassic Pop-up Groups continue this week! Find this week’s topic\, times and locations on the lesson schedule posted below. It’s another exciting way to have fun with your Blizzard friends! \nLessons & Buses\n\nLesson Schedule\nBus Routes\nSpecific bus stop locations\nInviting a guest?\n\n\n\n\nBus Stop\nDepart\nReturn\n\n\nChanhassen\n8:00 AM\n5:30 PM\n\n\nChaska\n7:45 AM\n5:45 PM\n\n\nEdina – City Hall\n8:00 AM\n5:30 PM\n\n\nGolden Valley\n8:15 AM\n5:15 PM\n\n\nHighland Park\n8:15 AM\n5:15 PM\n\n\nLong Lake/Orono\n8:15 AM\n5:15 PM\n\n\nMaple Grove\n8:15 AM\n5:15 PM\n\n\nMinneapolis – Justice Page\n8:15 AM\n5:15 PM\n\n\nMinnetonka – 7 Hi\n8:15 AM\n5:15 PM\n\n\nMinnetonka – Ridgedale\n8:15 AM\n5:15 PM\n\n\nMound/Spring Park\n7:45 AM\n5:45 PM\n\n\nOtsego\n7:45 AM\n5:45 PM\n\n\nPlymouth West\n8:00 AM\n5:30 PM\n\n\nShoreview\n8:30 AM\n5:00 PM\n\n\nSt. Louis Park\n8:15 AM\n5:15 PM
URL:https://blizzardmn.com/event/saturday-blizzard-trip-7-wild-mountain-2/
LOCATION:Wild Mountain\, 37200 Wild Mountain Rd\, Taylor's Falls\, MN\, 55084
ATTACH;FMTTYPE=image/png:https://blizzardmn.com/wp-content/uploads/Wild-Mountain_2022_website.png
END:VEVENT
END:VCALENDAR