BEGIN:VCALENDAR
VERSION:2.0
PRODID:-//Blizzard Ski and Snowboard School - ECPv6.15.20//NONSGML v1.0//EN
CALSCALE:GREGORIAN
METHOD:PUBLISH
X-WR-CALNAME:Blizzard Ski and Snowboard School
X-ORIGINAL-URL:https://blizzardmn.com
X-WR-CALDESC:Events for Blizzard Ski and Snowboard School
REFRESH-INTERVAL;VALUE=DURATION:PT1H
X-Robots-Tag:noindex
X-PUBLISHED-TTL:PT1H
BEGIN:VTIMEZONE
TZID:America/Menominee
BEGIN:DAYLIGHT
TZOFFSETFROM:-0600
TZOFFSETTO:-0500
TZNAME:CDT
DTSTART:20240310T080000
END:DAYLIGHT
BEGIN:STANDARD
TZOFFSETFROM:-0500
TZOFFSETTO:-0600
TZNAME:CST
DTSTART:20241103T070000
END:STANDARD
BEGIN:DAYLIGHT
TZOFFSETFROM:-0600
TZOFFSETTO:-0500
TZNAME:CDT
DTSTART:20250309T080000
END:DAYLIGHT
BEGIN:STANDARD
TZOFFSETFROM:-0500
TZOFFSETTO:-0600
TZNAME:CST
DTSTART:20251102T070000
END:STANDARD
BEGIN:DAYLIGHT
TZOFFSETFROM:-0600
TZOFFSETTO:-0500
TZNAME:CDT
DTSTART:20260308T080000
END:DAYLIGHT
BEGIN:STANDARD
TZOFFSETFROM:-0500
TZOFFSETTO:-0600
TZNAME:CST
DTSTART:20261101T070000
END:STANDARD
END:VTIMEZONE
BEGIN:VEVENT
DTSTART;VALUE=DATE:20250201
DTEND;VALUE=DATE:20250202
DTSTAMP:20260421T055126
CREATED:20240903T175453Z
LAST-MODIFIED:20250131T044615Z
UID:7609-1738368000-1738454399@blizzardmn.com
SUMMARY:Saturday Blizzard Trip #7 @ Wild Mountain
DESCRIPTION:Parent Breakthrough Program\nIt’s the final week for our Parent Breakthrough Program! \nNEW! Pop-up Groups!\nWe have something new for extra fun at Blizzard! Each week we go beyond the color levels and offer pop-up groups to explore different aspects of skiing and snowboarding. \nPop-up groups are for all Classic members (including Team Blizzard and Apprentice Instructors) and meet at the orange lesson cones at 10:00 AM\, 12:15 PM or 2:00 PM. Check out this week’s lesson schedule to find out when and where to meet. No extra cost. No sign-up required. \nThis week: Terrain Park! Learn how to approach the park and do basic tricks\, or take your moves to the next level! \nLessons & Buses\n\nLesson Schedule\nBus Routes\nSpecific bus stop locations\nInviting a guest?\n\n\n\n\nBus Stop\nDepart\nReturn\n\n\nBloomington\n8:00 AM\n5:30 PM\n\n\nChanhassen\n7:45 AM\n5:45 PM\n\n\nChaska\n7:30 AM\n6:00 PM\n\n\nEdina – City Hall\n8:00 AM\n5:30 PM\n\n\nGolden Valley\n8:15 AM\n5:15 PM\n\n\nLong Lake/Orono\n8:15 AM\n5:15 PM\n\n\nMaple Grove\n8:15 AM\n5:15 PM\n\n\nMendota Heights\n8:15 AM\n5:15 PM\n\n\nMinneapolis – Justice Page\n8:15 AM\n5:15 PM\n\n\nMinnetonka – 7 Hi\n8:00 AM\n5:30 PM\n\n\nMinnetonka – Ridgedale\n8:00 AM\n5:30 PM\n\n\nMound/Spring Park\n8:00 AM\n5:30 PM\n\n\nOtsego\n7:45 AM\n5:45 PM\n\n\nPlymouth West\n8:00 AM\n5:30 PM\n\n\nShoreview\n8:30 AM\n5:00 PM\n\n\nSt. Louis Park\n8:15 AM\n5:15 PM
URL:https://blizzardmn.com/event/saturday-blizzard-trip-7-wild-mountain/
LOCATION:Wild Mountain\, 37200 Wild Mountain Rd\, Taylor's Falls\, MN\, 55084
ATTACH;FMTTYPE=image/png:https://blizzardmn.com/wp-content/uploads/Wild-Mountain_2022_website.png
END:VEVENT
BEGIN:VEVENT
DTSTART;VALUE=DATE:20250202
DTEND;VALUE=DATE:20250203
DTSTAMP:20260421T055126
CREATED:20240903T175627Z
LAST-MODIFIED:20250131T044630Z
UID:7610-1738454400-1738540799@blizzardmn.com
SUMMARY:Sunday Blizzard Trip #7 @ Wild Mountain
DESCRIPTION:Parent Breakthrough Program\nIt’s the final week for our Parent Breakthrough Program! \nNEW! Pop-up Groups!\nWe have something new for extra fun at Blizzard! Each week we go beyond the color levels and offer pop-up groups to explore different aspects of skiing and snowboarding. \nPop-up groups are for all Classic members (including Team Blizzard and Apprentice Instructors) and meet at the orange lesson cones at 10:00 AM\, 12:15 PM or 2:00 PM. Check out this week’s lesson schedule to find out when and where to meet. No extra cost. No sign-up required. \nThis week: Terrain Park! Learn how to approach the park and do basic tricks\, or take your moves to the next level! \nLessons & Buses\n\nLesson Schedule\nBus Routes\nSpecific bus stop locations\nInviting a guest?\n\n\n\n\nBus Stop\nDepart\nReturn\n\n\nChanhassen\n7:45 AM\n5:45 PM\n\n\nChaska\n7:30 AM\n6:00 PM\n\n\nEdina – City Hall\n8:00 AM\n5:30 PM\n\n\nGolden Valley\n8:15 AM\n5:15 PM\n\n\nLong Lake/Orono\n8:15 AM\n5:15 PM\n\n\nMaple Grove\n8:15 AM\n5:15 PM\n\n\nMendota Heights\n8:15 AM\n5:15 PM\n\n\nMinneapolis – Justice Page\n8:00 AM\n5:30 PM\n\n\nMinnetonka – 7 Hi\n8:00 AM\n5:30 PM\n\n\nMinnetonka – Ridgedale\n8:00 AM\n5:30 PM\n\n\nPlymouth West\n8:00 AM\n5:30 PM\n\n\nShoreview\n8:30 AM\n5:00 PM\n\n\nSt. Louis Park\n8:15 AM\n5:15 PM
URL:https://blizzardmn.com/event/sunday-blizzard-trip-7-wild-mountain/
LOCATION:Wild Mountain\, 37200 Wild Mountain Rd\, Taylor's Falls\, MN\, 55084
ATTACH;FMTTYPE=image/png:https://blizzardmn.com/wp-content/uploads/Wild-Mountain_2022_website.png
END:VEVENT
BEGIN:VEVENT
DTSTART;TZID=America/Menominee:20250204T190000
DTEND;TZID=America/Menominee:20250204T210000
DTSTAMP:20260421T055126
CREATED:20240903T203026Z
LAST-MODIFIED:20241210T032912Z
UID:7680-1738695600-1738702800@blizzardmn.com
SUMMARY:Apprentice Instructors - On-Snow Clinic #5
DESCRIPTION:Grab your gear and head to the slopes for teaching and technical skills. Content will be provided by your Program Directors\, Kati & Jeff. Check your course syllabus and homework assignments!
URL:https://blizzardmn.com/event/apprentice-instructors-on-snow-clinic-5-3/
LOCATION:Hyland Hills Ski Area\, 8800 Chalet Road\, Bloomington\, MN\, 55438
ATTACH;FMTTYPE=image/png:https://blizzardmn.com/wp-content/uploads/superkyds.png
END:VEVENT
BEGIN:VEVENT
DTSTART;VALUE=DATE:20250208
DTEND;VALUE=DATE:20250209
DTSTAMP:20260421T055126
CREATED:20240903T175830Z
LAST-MODIFIED:20250207T162652Z
UID:7611-1738972800-1739059199@blizzardmn.com
SUMMARY:Saturday Blizzard Trip #8 @ Powder Ridge
DESCRIPTION:Classic Pop-up\nWe have something new for extra fun at Blizzard! Each week we go beyond the color levels and offer pop-up groups to explore different aspects of skiing and snowboarding. \nPop-up groups are for all Classic members (including Team Blizzard and Apprentice Instructors) and meet at the orange lesson cones at 10:00 AM\, 12:15 PM or 2:00 PM. Check out this week’s lesson schedule to find out when and where to meet. No extra cost. No sign-up required. \nThis week: Racing! Learn tactics for mastering the race course\, when you don’t get to choose where your turns start and end! Attend two racing pop-up groups to qualify for the Fun Day NASTAR race on March 1! (Must be in color level Red or above.) \nLessons & Buses\n\nLesson Schedule\nBus Routes\nSpecific bus stop locations\nInviting a guest?\n\n\n\n\nBus Stop\nDepart\nReturn\n\n\nBloomington\n8:00 AM\n5:30 PM\n\n\nChanhassen\n8:15 AM\n5:15 PM\n\n\nChaska\n7:45 AM\n5:45 PM\n\n\nEdina – City Hall\n8:00 AM\n5:30 PM\n\n\nGolden Valley\n8:15 AM\n5:15 PM\n\n\nLong Lake/Orono\n8:15 AM\n5:15 PM\n\n\nMaple Grove\n8:30 AM\n5:00 PM\n\n\nMendota Heights\n7:45 AM\n5:45 PM\n\n\nMinneapolis – Justice Page\n8:15 AM\n5:15 PM\n\n\nMinnetonka – 7 Hi\n8:15 AM\n5:15 PM\n\n\nMinnetonka – Ridgedale\n8:15 AM\n5:15 PM\n\n\nMound/Spring Park\n8:15 AM\n5:15 PM\n\n\nOtsego\n8:30 AM\n5:00 PM\n\n\nPlymouth West\n8:30 AM\n5:00 PM\n\n\nShoreview\n7:45 AM\n5:45 PM\n\n\nSt. Louis Park\n8:15 AM\n5:15 PM
URL:https://blizzardmn.com/event/saturday-blizzard-trip-8-powder-ridge/
LOCATION:Powder Ridge\, 15015 93rd Ave\, Kimball\, MN\, 55353
ATTACH;FMTTYPE=image/png:https://blizzardmn.com/wp-content/uploads/Powder-Ridge002.png
END:VEVENT
BEGIN:VEVENT
DTSTART;VALUE=DATE:20250209
DTEND;VALUE=DATE:20250210
DTSTAMP:20260421T055126
CREATED:20240903T180005Z
LAST-MODIFIED:20250207T162720Z
UID:7612-1739059200-1739145599@blizzardmn.com
SUMMARY:Sunday Blizzard Trip #8 @ Powder Ridge
DESCRIPTION:Parent Program\nWe’ve extended Sunday’s Parent Breakthough Program due to the January trip cancelation. It’s one more week of fun on the slopes with Lonnie! \nClassic Pop-up\nWe have something new for extra fun at Blizzard! Each week we go beyond the color levels and offer pop-up groups to explore different aspects of skiing and snowboarding. \nPop-up groups are for all Classic members (including Team Blizzard and Apprentice Instructors) and meet at the orange lesson cones at 10:00 AM\, 12:15 PM or 2:00 PM. Check out this week’s lesson schedule to find out when and where to meet. No extra cost. No sign-up required. \nThis week: Racing! Learn tactics for mastering the race course\, when you don’t get to choose where your turns start and end! Attend two racing pop-up groups to qualify for the Fun Day NASTAR race on March 1! (Must be in color level Red or above.) \nLessons & Buses\n\nLesson Schedule\nBus Routes\nSpecific bus stop locations\nInviting a guest?\n\n\n\n\nBus Stop\nDepart\nReturn\n\n\nChanhassen\n8:15 AM\n5:15 PM\n\n\nChaska\n7:45 AM\n5:45 PM\n\n\nEdina – City Hall\n8:00 AM\n5:30 PM\n\n\nGolden Valley\n8:15 AM\n5:15 PM\n\n\nLong Lake/Orono\n8:15 AM\n5:15 PM\n\n\nMaple Grove\n8:30 AM\n5:00 PM\n\n\nMendota Heights\n7:45 AM\n5:45 PM\n\n\nMinneapolis – Justice Page\n8:00 AM\n5:30 PM\n\n\nMinnetonka – 7 Hi\n8:15 AM\n5:15 PM\n\n\nMinnetonka – Ridgedale\n8:15 AM\n5:15 PM\n\n\nPlymouth West\n8:30 AM\n5:00 PM\n\n\nShoreview\n8:15 AM\n5:15 PM\n\n\nSt. Louis Park\n8:15 AM\n5:15 PM
URL:https://blizzardmn.com/event/sunday-blizzard-trip-8-powder-ridge/
LOCATION:Powder Ridge\, 15015 93rd Ave\, Kimball\, MN\, 55353
ATTACH;FMTTYPE=image/png:https://blizzardmn.com/wp-content/uploads/Powder-Ridge002.png
END:VEVENT
BEGIN:VEVENT
DTSTART;TZID=America/Menominee:20250211T190000
DTEND;TZID=America/Menominee:20250211T210000
DTSTAMP:20260421T055126
CREATED:20240903T203129Z
LAST-MODIFIED:20250211T035915Z
UID:7682-1739300400-1739307600@blizzardmn.com
SUMMARY:Apprentice Instructors - On-Snow Clinic #6 - CHANGED TO ZOOM
DESCRIPTION:This event has been moved from Hyland to Zoom due to predicted cold weather. Please see your email for Zoom meeting info.  \nGrab your gear and head to the slopes for teaching and technical skills. Content will be provided by your Program Directors\, Kati & Jeff. Check your course syllabus and homework assignments!
URL:https://blizzardmn.com/event/apprentice-instructors-on-snow-clinic-6-2/
LOCATION:ZOOM
ATTACH;FMTTYPE=image/png:https://blizzardmn.com/wp-content/uploads/superkyds.png
END:VEVENT
BEGIN:VEVENT
DTSTART;VALUE=DATE:20250215
DTEND;VALUE=DATE:20250216
DTSTAMP:20260421T055126
CREATED:20240903T180207Z
LAST-MODIFIED:20250214T024559Z
UID:7613-1739577600-1739663999@blizzardmn.com
SUMMARY:Saturday Blizzard Trip #9 @ Mt Kato
DESCRIPTION:It’s time to travel south to Mankato! Watch for the Jolly Green Giant and Little Sprout on the left just before Le Sueur! \nClassic Pop-up\nWe have something new for extra fun at Blizzard! Each week we go beyond the color levels and offer pop-up groups to explore different aspects of skiing and snowboarding. \nPop-up groups are for all Classic members (including Team Blizzard and Apprentice Instructors) and meet at the orange lesson cones at 10:00 AM\, 12:15 PM or 2:00 PM. Check out this week’s lesson schedule to find out when and where to meet. No extra cost. No sign-up required. \nThis week: Carving! Find out what your skis and snowboards can REALLY do when you learn the right moves and add gravity! Ski & snowboard. All color levels. \nProgress Cards\nWondering how your child’s skills are progressing this season? Progress cards will be sent home for all members attending this week! Mite\, SuperMite and SuperKyd cards will be emailed to parents/guardians on the account; Classic members\, Team Blizzard racers and Apprentice Instructors will receive paper cards to bring home. Ask your child about their progress card and share in their success on the slopes! \nLessons & Buses\n\nLesson Schedule\nBus Routes\nSpecific bus stop locations\nInviting a guest?\n\n\n\n\nBus Stop\nDepart\nReturn\n\n\nBloomington\n8:15 AM\n5:15 PM\n\n\nChanhassen\n8:15 AM\n5:15 PM\n\n\nChaska\n8:30 AM\n5:00 PM\n\n\nEdina – City Hall\n8:00 AM\n5:30 PM\n\n\nGolden Valley\n8:15 AM\n5:15 PM\n\n\nLong Lake/Orono\n8:00 AM\n5:30 PM\n\n\nMaple Grove\n8:00 AM\n5:30 PM\n\n\nMendota Heights\n8:00 AM\n5:30 PM\n\n\nMinneapolis – Justice Page\n8:00 AM\n5:30 PM\n\n\nMinnetonka – 7 Hi\n8:00 AM\n5:30 PM\n\n\nMinnetonka – Ridgedale\n8:15 AM\n5:15 PM\n\n\nMound/Spring Park\n8:00 AM\n5:30 PM\n\n\nOtsego\n7:30 AM\n6:00 PM\n\n\nPlymouth West\n8:00 AM\n5:30 PM\n\n\nShoreview\n7:30 AM\n6:00 PM\n\n\nSt. Louis Park\n8:15 AM\n5:15 PM
URL:https://blizzardmn.com/event/saturday-blizzard-trip-9/
LOCATION:Mount Kato\, 20461 Old Highway 66\, Mankato\, MN\, 56001
ATTACH;FMTTYPE=image/jpeg:https://blizzardmn.com/wp-content/uploads/Mount-Kato003.jpg
END:VEVENT
BEGIN:VEVENT
DTSTART;VALUE=DATE:20250216
DTEND;VALUE=DATE:20250217
DTSTAMP:20260421T055126
CREATED:20221003T012246Z
LAST-MODIFIED:20250214T024758Z
UID:6151-1739664000-1739750399@blizzardmn.com
SUMMARY:Sunday Blizzard Trip #9 @ Mt Kato
DESCRIPTION:It’s time to travel south to Mankato! Watch for the Jolly Green Giant and Little Sprout on the left just before Le Sueur! \nClassic Pop-up\nWe have something new for extra fun at Blizzard! Each week we go beyond the color levels and offer pop-up groups to explore different aspects of skiing and snowboarding. \nPop-up groups are for all Classic members (including Team Blizzard and Apprentice Instructors) and meet at the orange lesson cones at 10:00 AM\, 12:15 PM or 2:00 PM. Check out this week’s lesson schedule to find out when and where to meet. No extra cost. No sign-up required. \nThis week: Carving! Find out what your skis and snowboards can REALLY do when you learn the right moves and add gravity! Ski & snowboard. All color levels. \nProgress Cards\nWondering how your child’s skills are progressing this season? Progress cards will be sent home for all members attending this week! Mite\, SuperMite and SuperKyd cards will be emailed to parents/guardians on the account; Classic members\, Team Blizzard racers and Apprentice Instructors will receive paper cards to bring home. Ask your child about their progress card and share in their success on the slopes! \nLessons & Buses\n\nLesson Schedule\nBus Routes\nSpecific bus stop locations\nInviting a guest?\n\n*** Bus times have changed at Maple Grove! *** \n\n\n\nBus Stop\nDepart\nReturn\n\n\nChanhassen\n8:15 AM\n5:15 PM\n\n\nChaska\n8:30 AM\n5:00 PM\n\n\nEdina – City Hall\n8:00 AM\n5:30 PM\n\n\nGolden Valley\n8:15 AM\n5:15 PM\n\n\nLong Lake/Orono\n8:00 AM\n5:30 PM\n\n\nMaple Grove\n7:45 AM\n5:45 PM\n\n\nMendota Heights\n7:45 AM\n5:45 PM\n\n\nMinneapolis – Justice Page\n8:00 AM\n5:30 PM\n\n\nMinnetonka – 7 Hi\n8:00 AM\n5:30 PM\n\n\nMinnetonka – Ridgedale\n8:15 AM\n5:15 PM\n\n\nPlymouth West\n8:00 AM\n5:30 PM\n\n\nShoreview\n7:30 AM\n6:00 PM\n\n\nSt. Louis Park\n8:15 AM\n5:15 PM
URL:https://blizzardmn.com/event/blizzard-sun-trip-9/
LOCATION:Mount Kato\, 20461 Old Highway 66\, Mankato\, MN\, 56001
ATTACH;FMTTYPE=image/jpeg:https://blizzardmn.com/wp-content/uploads/Mount-Kato003.jpg
END:VEVENT
BEGIN:VEVENT
DTSTART;TZID=America/Menominee:20250218T190000
DTEND;TZID=America/Menominee:20250218T210000
DTSTAMP:20260421T055126
CREATED:20250210T155845Z
LAST-MODIFIED:20250210T155845Z
UID:8221-1739905200-1739912400@blizzardmn.com
SUMMARY:Apprentice Instructors - On-Snow Clinic (MAKE-UP)
DESCRIPTION:This is a make-up clinic for sessions canceled due to cold weather.  \nGrab your gear and head to the slopes for teaching and technical skills. Content will be provided by your Program Directors\, Kati & Jeff. Check your course syllabus for homework assignments!
URL:https://blizzardmn.com/event/apprentice-instructors-on-snow-clinic-make-up/
LOCATION:Hyland Hills Ski Area\, 8800 Chalet Road\, Bloomington\, MN\, 55438
ATTACH;FMTTYPE=image/png:https://blizzardmn.com/wp-content/uploads/superkyds.png
END:VEVENT
BEGIN:VEVENT
DTSTART;VALUE=DATE:20250222
DTEND;VALUE=DATE:20250223
DTSTAMP:20260421T055126
CREATED:20240903T180928Z
LAST-MODIFIED:20250221T034631Z
UID:7627-1740182400-1740268799@blizzardmn.com
SUMMARY:Saturday Blizzard Trip #10 @ Wild Mountain
DESCRIPTION:It’s Picnic Day!\nEnjoy all-beef hotdogs\, chips\, cookies and beverages\, compliments of Blizzard! Veggie dogs and GF options are available. It’s our way of saying thanks for a great season! \nClassic Pop-up\nEach week we go beyond the color levels and offer pop-up groups to explore different aspects of skiing and snowboarding. Pop-up groups are for all Classic members (including Team Blizzard and Apprentice Instructors) and meet at the orange lesson cones at 10:00 AM\, 12:15 PM or 2:00 PM. Check out this week’s lesson schedule to find out when and where to meet. No extra cost. No sign-up required. \nThis week: Synchro! In preparation for Fun Day\, learn to ski & ride together to make fun formations like snakes\, pop-outs and diamonds as you come down the hill! Ski & snowboard. All color levels. Serious fun!! \nApprentice Instructor Program Preview!\nIf you’re in 8th-11th grade\, find out what it’s like to teach skiing & snowboarding! Go to Cone #2 at 10:00 to learn about the Apprentice Instructor Program! Skiers need to be in Color Level White or above; snowboarders need to be Brown or above. \nGiants Ridge Bonus Trip: March 8!\nStill haven’t had enough time on the snow? Join Blizzard’s annual trip up north! We’ll be at Giants Ridge in Biwabik\, MN again this season. Members in our Classic\, Team Blizzard and Apprentice Instructor programs are welcome solo or with friends in grades 5-12. Younger siblings and members are welcome with parent/guardian supervision all day and preregistration.  >> More info! \nLessons & Buses\n\nLesson Schedule\nBus Routes\nSpecific bus stop locations\nInviting a guest?\n\n\n\n\nBus Stop\nDepart\nReturn\n\n\nBloomington\n8:00 AM\n5:30 PM\n\n\nChanhassen\n7:45 AM\n5:45 PM\n\n\nChaska\n7:30 AM\n6:00 PM\n\n\nEdina – City Hall\n8:00 AM\n5:30 PM\n\n\nGolden Valley\n8:15 AM\n5:15 PM\n\n\nLong Lake/Orono\n8:15 AM\n5:15 PM\n\n\nMaple Grove\n8:15 AM\n5:15 PM\n\n\nMendota Heights\n8:15 AM\n5:15 PM\n\n\nMinneapolis – Justice Page\n8:15 AM\n5:15 PM\n\n\nMinnetonka – 7 Hi\n8:00 AM\n5:30 PM\n\n\nMinnetonka – Ridgedale\n8:00 AM\n5:30 PM\n\n\nMound/Spring Park\n8:00 AM\n5:30 PM\n\n\nOtsego\n7:45 AM\n5:45 PM\n\n\nPlymouth West\n8:00 AM\n5:30 PM\n\n\nShoreview\n8:30 AM\n5:00 PM\n\n\nSt. Louis Park\n8:15 AM\n5:15 PM\n\n\n\n 
URL:https://blizzardmn.com/event/saturday-blizzard-trip-10-wild-mountain/
LOCATION:Wild Mountain\, 37200 Wild Mountain Rd\, Taylor's Falls\, MN\, 55084
ATTACH;FMTTYPE=image/png:https://blizzardmn.com/wp-content/uploads/Wild-Mountain_2022_website.png
END:VEVENT
BEGIN:VEVENT
DTSTART;TZID=America/Menominee:20250222T100000
DTEND;TZID=America/Menominee:20250222T150000
DTSTAMP:20260421T055126
CREATED:20240903T203426Z
LAST-MODIFIED:20250210T154348Z
UID:7684-1740218400-1740236400@blizzardmn.com
SUMMARY:Apprentice Instructors - Mock Exam & Potluck
DESCRIPTION:Apprentice Instructors have an all-day clinic from 10:00 AM – 3:00 PM! Everyone will get feedback on their skiing/riding and have an opportunity to teach. For Apprentices taking the Rainbow Exam this season\, this is a good “final check” for what you need to work on! It’s a great way to work through any test anxiety in a relaxed\, supportive environment. \nIt’s also our annual Apprentice potluck lunch! Check out Google Classroom for the potluck signup sheet. \n  \nNOTE: The regular Blizzard buses are available for transportation to Wild Mountain. Watch for your invitations and select your bus when you register. See the Saturday trip info for bus times.
URL:https://blizzardmn.com/event/apprentice-instructors-mock-exam-potluck-3/
LOCATION:Wild Mountain\, 37200 Wild Mountain Rd\, Taylor's Falls\, MN\, 55084
ATTACH;FMTTYPE=image/png:https://blizzardmn.com/wp-content/uploads/superkyds.png
END:VEVENT
BEGIN:VEVENT
DTSTART;VALUE=DATE:20250223
DTEND;VALUE=DATE:20250224
DTSTAMP:20260421T055126
CREATED:20240903T181109Z
LAST-MODIFIED:20250221T155151Z
UID:7628-1740268800-1740355199@blizzardmn.com
SUMMARY:Sunday Blizzard Trip #10 @ Wild Mountain
DESCRIPTION:It’s Picnic Day!\nEnjoy all-beef hotdogs\, chips\, cookies and beverages\, compliments of Blizzard! Veggie dogs and GF options are available. It’s our way of saying thanks for a great season! \nClassic Pop-up\nEach week we go beyond the color levels and offer pop-up groups to explore different aspects of skiing and snowboarding. Pop-up groups are for all Classic members (including Team Blizzard and Apprentice Instructors) and meet at the orange lesson cones at 10:00 AM\, 12:15 PM or 2:00 PM. Check out this week’s lesson schedule to find out when and where to meet. No extra cost. No sign-up required. \nThis week: Synchro! In preparation for Fun Day\, learn to ski & ride together to make fun formations like snakes\, pop-outs and diamonds as you come down the hill! Ski & snowboard. All color levels. Serious fun!! \nApprentice Instructor Program Preview!\nIf you’re in 8th-11th grade\, find out what it’s like to teach skiing & snowboarding! Go to Cone #2 at 10:00 to learn about the Apprentice Instructor Program! Skiers need to be in Color Level White or above; snowboarders need to be Brown or above. \nGiants Ridge Bonus Trip: March 8!\nStill haven’t had enough time on the snow? Join Blizzard’s annual trip up north! We’ll be at Giants Ridge in Biwabik\, MN again this season. Members in our Classic\, Team Blizzard and Apprentice Instructor programs are welcome solo or with friends in grades 5-12. Younger siblings and members are welcome with parent/guardian supervision all day and preregistration.  >> More info! \nLessons & Buses\n\nLesson Schedule\nBus Routes\nSpecific bus stop locations\nInviting a guest?\n\n\n\n\nBus Stop\nDepart\nReturn\n\n\nChanhassen\n7:45 AM\n5:45 PM\n\n\nChaska\n7:30 AM\n6:00 PM\n\n\nEdina – City Hall\n8:00 AM\n5:30 PM\n\n\nGolden Valley\n8:15 AM\n5:15 PM\n\n\nLong Lake/Orono\n8:15 AM\n5:15 PM\n\n\nMaple Grove\n8:15 AM\n5:15 PM\n\n\nMendota Heights\n8:15 AM\n5:15 PM\n\n\nMinneapolis – Justice Page\n8:00 AM\n5:30 PM\n\n\nMinnetonka – 7 Hi\n8:00 AM\n5:30 PM\n\n\nMinnetonka – Ridgedale\n8:00 AM\n5:30 PM\n\n\nPlymouth West\n8:00 AM\n5:30 PM\n\n\nShoreview\n8:30 AM\n5:00 PM\n\n\nSt. Louis Park\n8:15 AM\n5:15 PM
URL:https://blizzardmn.com/event/sunday-blizzard-trip-10-wild-mountain/
LOCATION:Wild Mountain\, 37200 Wild Mountain Rd\, Taylor's Falls\, MN\, 55084
ATTACH;FMTTYPE=image/png:https://blizzardmn.com/wp-content/uploads/Wild-Mountain_2022_website.png
END:VEVENT
BEGIN:VEVENT
DTSTART;TZID=America/Menominee:20250225T190000
DTEND;TZID=America/Menominee:20250225T210000
DTSTAMP:20260421T055126
CREATED:20250210T155549Z
LAST-MODIFIED:20250210T155639Z
UID:8219-1740510000-1740517200@blizzardmn.com
SUMMARY:Apprentice Instructors - Pizza Party & on-snow clinic (make-up)
DESCRIPTION:Celebrate all you’ve achieved so far this season! Enjoy free pizza and drinks before we head out on snow for one last clinic to tune up your teaching before the exam!
URL:https://blizzardmn.com/event/apprentice-instructors-pizza-party-on-snow-clinic-make-up/
LOCATION:Hyland Hills Ski Area\, 8800 Chalet Road\, Bloomington\, MN\, 55438
ATTACH;FMTTYPE=image/png:https://blizzardmn.com/wp-content/uploads/superkyds.png
END:VEVENT
END:VCALENDAR