BEGIN:VCALENDAR
VERSION:2.0
PRODID:-//Blizzard Ski and Snowboard School - ECPv6.15.20//NONSGML v1.0//EN
CALSCALE:GREGORIAN
METHOD:PUBLISH
X-ORIGINAL-URL:https://blizzardmn.com
X-WR-CALDESC:Events for Blizzard Ski and Snowboard School
REFRESH-INTERVAL;VALUE=DURATION:PT1H
X-Robots-Tag:noindex
X-PUBLISHED-TTL:PT1H
BEGIN:VTIMEZONE
TZID:America/Menominee
BEGIN:DAYLIGHT
TZOFFSETFROM:-0600
TZOFFSETTO:-0500
TZNAME:CDT
DTSTART:20240310T080000
END:DAYLIGHT
BEGIN:STANDARD
TZOFFSETFROM:-0500
TZOFFSETTO:-0600
TZNAME:CST
DTSTART:20241103T070000
END:STANDARD
BEGIN:DAYLIGHT
TZOFFSETFROM:-0600
TZOFFSETTO:-0500
TZNAME:CDT
DTSTART:20250309T080000
END:DAYLIGHT
BEGIN:STANDARD
TZOFFSETFROM:-0500
TZOFFSETTO:-0600
TZNAME:CST
DTSTART:20251102T070000
END:STANDARD
BEGIN:DAYLIGHT
TZOFFSETFROM:-0600
TZOFFSETTO:-0500
TZNAME:CDT
DTSTART:20260308T080000
END:DAYLIGHT
BEGIN:STANDARD
TZOFFSETFROM:-0500
TZOFFSETTO:-0600
TZNAME:CST
DTSTART:20261101T070000
END:STANDARD
END:VTIMEZONE
BEGIN:VEVENT
DTSTART;TZID=America/Menominee:20250107T190000
DTEND;TZID=America/Menominee:20250107T210000
DTSTAMP:20260421T043813
CREATED:20240903T202111Z
LAST-MODIFIED:20241210T033744Z
UID:7672-1736276400-1736283600@blizzardmn.com
SUMMARY:Apprentice Instructors - On-Snow Clinic #1
DESCRIPTION:This is your first clinic on-snow! Grab your gear and head to the slopes for teaching and technical skills. Content will be provided by your Program Directors\, Kati & Jeff.  Check your course syllabus and homework assignments! \nWe will meet at Hyland at 7:00 p.m. on snow in front of the chalet. If you’re late\, check the hills for Kati or Jeff in their green jackets! \nThe evening ticket rate is just $22 (available starting at precisely 6:45pm). There is no free parking at the chalet. Plan a little extra time to park in the lot and ride the shuttle. \n 
URL:https://blizzardmn.com/event/apprentice-instructors-on-snow-clinic-1-2/
LOCATION:Hyland Hills Ski Area\, 8800 Chalet Road\, Bloomington\, MN\, 55438
ATTACH;FMTTYPE=image/png:https://blizzardmn.com/wp-content/uploads/superkyds.png
END:VEVENT
BEGIN:VEVENT
DTSTART;VALUE=DATE:20250111
DTEND;VALUE=DATE:20250112
DTSTAMP:20260421T043813
CREATED:20240903T163853Z
LAST-MODIFIED:20250110T033625Z
UID:7592-1736553600-1736639999@blizzardmn.com
SUMMARY:Saturday Blizzard Trip #4 @ Trollhaugen
DESCRIPTION:New! Pop-up lessons!\nWe have something new to start the year with extra fun at Blizzard! Each week\, we will offer NEW pop-up events! \nPop-up events are for all Classic members (including Team Blizzard and Apprentice Instructors) and meet at the orange lesson cones at 10:00 AM\, 12:15 PM or 2:00 PM. Check out this week’s lesson schedule to find out when and where to meet. No extra cost. No sign-up required.  \nThis week’s events are: \n\nTerrain Park – Learn how to approach the park and do basic tricks\, or take your moves to the next level!\nGroup Slide – Skiers and snowboarders in any color\, sliding together on the mountain! If your friends are in different colors or some ski and some snowboard\, this pop-up is for you!\n\nLet’s have some fun!!! \nLessons & Buses\n\nLesson schedule\nBus routes\nSpecific bus stop locations\nInviting a guest?\n\n\n\n\nBus Stop\nDepart\nReturn\n\n\nBloomington\n8:00 AM\n5:30 PM\n\n\nChanhassen\n7:45 AM\n5:45 PM\n\n\nChaska\n7:30 AM\n6:00 PM\n\n\nEdina – City Hall\n8:00 AM\n5:30 PM\n\n\nGolden Valley\n8:15 AM\n5:15 PM\n\n\nLong Lake/Orono\n8:15 AM\n5:15 PM\n\n\nMaple Grove\n8:15 AM\n5:15 PM\n\n\nMendota Heights\n8:15 AM\n5:15 PM\n\n\nMinneapolis – Justice Page\n8:15 AM\n5:15 PM\n\n\nMinnetonka – 7 Hi\n8:00 AM\n5:30 PM\n\n\nMinnetonka – Ridgedale\n8:00 AM\n5:30 PM\n\n\nMound/Spring Park\n8:00 AM\n5:30 PM\n\n\nOtsego\n7:45 AM\n5:45 PM\n\n\nPlymouth West\n8:00 AM\n5:30 PM\n\n\nShoreview\n8:30 AM\n5:00 PM\n\n\nSt. Louis Park\n8:15 AM\n5:15 PM
URL:https://blizzardmn.com/event/saturday-blizzard-trip-4-trollhaugen/
LOCATION:Trollhaugen\, 2232 100th Ave\, Dresser\, WI\, 54009
ATTACH;FMTTYPE=image/png:https://blizzardmn.com/wp-content/uploads/trollhaugen-logo-11.png
END:VEVENT
BEGIN:VEVENT
DTSTART;VALUE=DATE:20250112
DTEND;VALUE=DATE:20250113
DTSTAMP:20260421T043813
CREATED:20240903T164014Z
LAST-MODIFIED:20250110T033650Z
UID:7593-1736640000-1736726399@blizzardmn.com
SUMMARY:Sunday Blizzard Trip #4 @ Trollhaugen
DESCRIPTION:New! Pop-up lessons!\nWe have something new to start the year with extra fun at Blizzard! Each week\, we will offer NEW pop-up events! \nPop-up events are for all Classic members (including Team Blizzard and Apprentice Instructors) and meet at the orange lesson cones at 10:00 AM\, 12:15 PM or 2:00 PM. Check out this week’s lesson schedule to find out when and where to meet. No extra cost. No sign-up required.  \nThis week’s events are: \n\nTerrain Park – Learn how to approach the park and do basic tricks\, or take your moves to the next level!\nGroup Slide – Skiers and snowboarders in any color\, sliding together on the mountain! If your friends are in different colors or some ski and some snowboard\, this pop-up is for you!\n\nLet’s have some fun!!! \nLessons & Buses\n\nLesson schedule\nBus routes\nSpecific bus stop locations\nInviting a guest?\n\n\n\n\nBus Stop\nDepart\nReturn\n\n\nChanhassen\n07:45 AM\n05:45 PM\n\n\nChaska\n07:30 AM\n06:00 PM\n\n\nEdina – City Hall\n08:00 AM\n05:30 PM\n\n\nGolden Valley\n08:15 AM\n05:15 PM\n\n\nLong Lake/Orono\n08:15 AM\n05:15 PM\n\n\nMaple Grove\n08:15 AM\n05:15 PM\n\n\nMendota Heights\n08:15 AM\n05:15 PM\n\n\nMinneapolis – Justice Page\n08:00 AM\n05:30 PM\n\n\nMinnetonka – 7 Hi\n08:00 AM\n05:30 PM\n\n\nMinnetonka – Ridgedale\n08:00 AM\n05:30 PM\n\n\nPlymouth West\n08:00 AM\n05:30 PM\n\n\nShoreview\n08:30 AM\n05:00 PM\n\n\nSt. Louis Park\n08:15 AM\n05:15 PM
URL:https://blizzardmn.com/event/sunday-blizzard-trip-4-trollhaugen/
LOCATION:Trollhaugen\, 2232 100th Ave\, Dresser\, WI\, 54009
ATTACH;FMTTYPE=image/png:https://blizzardmn.com/wp-content/uploads/trollhaugen-logo-11.png
END:VEVENT
BEGIN:VEVENT
DTSTART;TZID=America/Menominee:20250114T190000
DTEND;TZID=America/Menominee:20250114T210000
DTSTAMP:20260421T043813
CREATED:20240903T202507Z
LAST-MODIFIED:20241210T033109Z
UID:7674-1736881200-1736888400@blizzardmn.com
SUMMARY:Apprentice Instructors - On-Snow Clinic #2
DESCRIPTION:Grab your gear and head to the slopes for teaching and technical skills. Content will be provided by your Program Directors\, Kati & Jeff.  Check your course syllabus and homework assignments!
URL:https://blizzardmn.com/event/apprentice-instructors-on-snow-clinic-2-3/
LOCATION:Hyland Hills Ski Area\, 8800 Chalet Road\, Bloomington\, MN\, 55438
ATTACH;FMTTYPE=image/png:https://blizzardmn.com/wp-content/uploads/superkyds.png
END:VEVENT
BEGIN:VEVENT
DTSTART;VALUE=DATE:20250118
DTEND;VALUE=DATE:20250119
DTSTAMP:20260421T043813
CREATED:20240903T164208Z
LAST-MODIFIED:20250117T082837Z
UID:7596-1737158400-1737244799@blizzardmn.com
SUMMARY:Saturday Blizzard Trip #5 @ Powder Ridge
DESCRIPTION:We head Northwest to Kimball\, MN to continue our fun on the slopes! Powder Ridge is known for their famous donuts. 🙂 \nNew! Pop-up groups!\nPop-up groups are for all Classic members (including Team Blizzard and Apprentice Instructors) and meet at the orange lesson cones at 10:00 AM\, 12:15 PM and/or 2:00 PM. Check out this week’s lesson schedule to find out when and where to meet. No extra cost! No sign-up required! Just more FUN! \nThis week’s group is carving! This group is for skiers and snowboarders in any color. Learn how to get your edges working like Olympic champion skier Mikaela Shiffrin and snowboarder Lindsey Jacobellis! \nLet’s have some fun!!! \nLessons & Buses\n\nLesson Schedule\nBus Routes\nSpecific bus stop locations\nInviting a guest?\n\n\n\n\nBus Stop\nDepart\nReturn\n\n\nBloomington\n8:00 AM\n5:30 PM\n\n\nChanhassen\n8:15 AM\n5:15 PM\n\n\nChaska\n7:45 AM\n5:45 PM\n\n\nEdina – City Hall\n8:00 AM\n5:30 PM\n\n\nGolden Valley\n8:15 AM\n5:15 PM\n\n\nLong Lake/Orono\n8:15 AM\n5:15 PM\n\n\nMaple Grove\n8:30 AM\n5:00 PM\n\n\nMendota Heights\n7:45 AM\n5:45 PM\n\n\nMinneapolis – Justice Page\n8:15 AM\n5:15 PM\n\n\nMinnetonka – 7 Hi\n8:15 AM\n5:15 PM\n\n\nMinnetonka – Ridgedale\n8:15 AM\n5:15 PM\n\n\nMound/Spring Park\n8:15 AM\n5:15 PM\n\n\nOtsego\n8:30 AM\n5:00 PM\n\n\nPlymouth West\n8:30 AM\n5:00 PM\n\n\nShoreview\n7:45 AM\n5:45 PM\n\n\nSt. Louis Park\n8:15 AM\n5:15 PM
URL:https://blizzardmn.com/event/saturday-blizzard-trip-5-powder-ridge/
LOCATION:Powder Ridge\, 15015 93rd Ave\, Kimball\, MN\, 55353
ATTACH;FMTTYPE=image/png:https://blizzardmn.com/wp-content/uploads/Powder-Ridge002.png
END:VEVENT
BEGIN:VEVENT
DTSTART;VALUE=DATE:20250119
DTEND;VALUE=DATE:20250120
DTSTAMP:20260421T043813
CREATED:20240903T164348Z
LAST-MODIFIED:20250117T082854Z
UID:7597-1737244800-1737331199@blizzardmn.com
SUMMARY:Sunday Blizzard Trip #5 @ Powder Ridge
DESCRIPTION:We head Northwest to Kimball\, MN to continue our fun on the slopes! Powder Ridge is known for their famous donuts. 🙂 \nNew! Pop-up groups!\nPop-up groups are for all Classic members (including Team Blizzard and Apprentice Instructors) and meet at the orange lesson cones at 10:00 AM\, 12:15 PM and/or 2:00 PM. Check out this week’s lesson schedule to find out when and where to meet. No extra cost! No sign-up required! Just more FUN! \nThis week’s group is carving! This group is for skiers and snowboarders in any color. Learn how to get your edges working like Olympic champion skier Mikaela Shiffrin and snowboarder Lindsey Jacobellis! \nLet’s have some fun!!! \nLessons & Buses\n\nLesson Schedule\nBus Routes\nSpecific bus stop locations\nInviting a guest?\n\nIMPORTANT: BUS TIMES HAVE CHANGED AT CHANHASSEN! \n\n\n\nBus Stop\nDepart\nReturn\n\n\nChanhassen\n8:00 AM\n5:30 PM\n\n\nChaska\n7:45 AM\n5:45 PM\n\n\nEdina – City Hall\n8:00 AM\n5:30 PM\n\n\nGolden Valley\n8:15 AM\n5:15 PM\n\n\nLong Lake/Orono\n8:15 AM\n5:15 PM\n\n\nMaple Grove\n8:30 AM\n5:00 PM\n\n\nMendota Heights\n7:45 AM\n5:45 PM\n\n\nMinneapolis – Justice Page\n8:00 AM\n5:30 PM\n\n\nMinnetonka – 7 Hi\n8:15 AM\n5:15 PM\n\n\nMinnetonka – Ridgedale\n8:15 AM\n5:15 PM\n\n\nPlymouth West\n8:30 AM\n5:00 PM\n\n\nShoreview\n8:15 AM\n5:15 PM\n\n\nSt. Louis Park\n8:15 AM\n5:15 PM
URL:https://blizzardmn.com/event/sunday-blizzard-trip-5-powder-ridge/
LOCATION:Powder Ridge\, 15015 93rd Ave\, Kimball\, MN\, 55353
ATTACH;FMTTYPE=image/png:https://blizzardmn.com/wp-content/uploads/Powder-Ridge002.png
END:VEVENT
BEGIN:VEVENT
DTSTART;VALUE=DATE:20250120
DTEND;VALUE=DATE:20250121
DTSTAMP:20260421T043813
CREATED:20240903T182410Z
LAST-MODIFIED:20250120T030126Z
UID:7640-1737331200-1737417599@blizzardmn.com
SUMMARY:Bonus Trip #2: Teen & Family Trip @ Afton Alps - CANCELED
DESCRIPTION:The MLK Day Teen & Family Bonus Trip has been canceled. See you next weekend!\n\nSchool is out for MLK Day! Spend the day on the slopes with your friends at Blizzard! \nRSVP NOW \nThis bonus trip is for all members in grades 5-12 in the Classic\, Team Blizzard or Apprentice Instructor programs. Younger siblings and members are welcome with a parent or guardian. \nSPECIAL WAIVER REQUIRED! Vail Resorts\, which owns Afton Alps\, requires a Vail Resorts waiver for every participant. (This is a different waiver than the MNSAA 1Risk waiver required by other MN ski areas.) Nobody will be allowed on the bus or provided with a lift ticket at the area unless a signed waiver is turned in at the event. Please download\, print and complete this Vail Resorts waiver. \nAfton Alps is CASHLESS. You cannot use cash to make any purchases. All major cards\, ApplePay\, and resort charge are accepted. \nGuests\nWant to bring a friend or family member? Awesome! Guests must know how to ski or snowboard already and must have their own equipment. We are unable to supervise equipment rentals. All Guests must be pre-registered. We cannot accept any walk-on guests. \nInvite a Guest \nNo Lessons\nThere are no lessons on this bonus trip. It is a full a day of free-skiing/riding on the slopes! \nBuses\nWe will be running limited bus routes for this bonus trip. If you are not riding from your regular bus stop\, please verify the exact bus stop location and plan to arrive early so you don’t miss the bus. \nIF YOU DRIVE: Afton Alps has four chalets. The Blizzard Table is upstairs in the ALPS CHALET. (That’s the main chalet at the bottom of the hill.) You must arrive by 10:30 AM to get a lift ticket from Blizzard. Check your child(ren) out at the Blizzard Table by 3:30 PM. \n  \nFinal Bus Routes – Coming Friday before the trip! \n  \n\n\n\nBus Stop\nDepart\nReturn\n\n\nChanhassen\n8:30 AM\n5:15 PM\n\n\nEdina – City Hall\n9:00 AM\n4:45 PM\n\n\nMendota Heights\n9:15 AM\n4:30 PM\n\n\nMinnetonka – Ridgedale\n8:45 AM\n5:00 PM\n\n\nPlymouth West\n8:30 AM\n5:15 PM
URL:https://blizzardmn.com/event/bonus-trip-2-teen-family-trip-afton-alps/
LOCATION:Afton Alps\, 6600 Peller Avenue South\, Hastings\, MN\, 55033
ATTACH;FMTTYPE=image/png:https://blizzardmn.com/wp-content/uploads/AFtonAlpsLogo250-e1725386704630.png
END:VEVENT
BEGIN:VEVENT
DTSTART;TZID=America/Menominee:20250121T190000
DTEND;TZID=America/Menominee:20250121T210000
DTSTAMP:20260421T043813
CREATED:20240903T202623Z
LAST-MODIFIED:20241210T032817Z
UID:7675-1737486000-1737493200@blizzardmn.com
SUMMARY:Apprentice Instructors - On-Snow Clinic #3
DESCRIPTION:Grab your gear and head to the slopes for teaching and technical skills. Content will be provided by your Program Directors\, Kati & Jeff.  Check your course syllabus and homework assignments!
URL:https://blizzardmn.com/event/apprentice-instructors-on-snow-clinic-3-3/
LOCATION:Hyland Hills Ski Area\, 8800 Chalet Road\, Bloomington\, MN\, 55438
ATTACH;FMTTYPE=image/png:https://blizzardmn.com/wp-content/uploads/superkyds.png
END:VEVENT
BEGIN:VEVENT
DTSTART;VALUE=DATE:20250125
DTEND;VALUE=DATE:20250126
DTSTAMP:20260421T043813
CREATED:20240903T174818Z
LAST-MODIFIED:20250124T044255Z
UID:7607-1737763200-1737849599@blizzardmn.com
SUMMARY:Saturday Blizzard Trip #6 @ Mount Kato
DESCRIPTION:It’s time to travel south to Mankato! Watch for the Jolly Green Giant and Little Sprout on the left just before Le Sueur! \nNew! Pop-up groups!\nPop-up groups are for all Classic members (including Team Blizzard and Apprentice Instructors) and meet at the orange lesson cones at 10:00 AM\, 12:15 PM and/or 2:00 PM. Check out this week’s lesson schedule to find out when and where to meet. No extra cost! No sign-up required! Just more FUN! \nThis week’s topic: RACING! Learn how Mikaele Shiffrin & Ross Rebagliati won gold in the race course! Attend two racing pop-up groups to qualify for the Fun Day NASTAR race on March 1! (Must be in color level Red or above. Racing will be offered again in a few weeks.) \nLessons & Buses\n\nLesson Schedule\nBus Routes\nSpecific bus stop locations\nInviting a guest?\n\n\n\n\nBus Stop\nDepart\nReturn\n\n\nBloomington\n8:15 AM\n5:15 PM\n\n\nChanhassen\n8:15 AM\n5:15 PM\n\n\nChaska\n8:30 AM\n5:00 PM\n\n\nEdina – City Hall\n8:00 AM\n5:30 PM\n\n\nGolden Valley\n8:15 AM\n5:15 PM\n\n\nLong Lake/Orono\n8:00 AM\n5:30 PM\n\n\nMaple Grove\n8:00 AM\n5:30 PM\n\n\nMendota Heights\n8:00 AM\n5:30 PM\n\n\nMinneapolis – Justice Page\n8:00 AM\n5:30 PM\n\n\nMinnetonka – 7 Hi\n8:00 AM\n5:30 PM\n\n\nMinnetonka – Ridgedale\n8:15 AM\n5:15 PM\n\n\nMound/Spring Park\n8:00 AM\n5:30 PM\n\n\nOtsego\n7:30 AM\n6:00 PM\n\n\nPlymouth West\n8:00 AM\n5:30 PM\n\n\nShoreview\n7:30 AM\n6:00 PM\n\n\nSt. Louis Park\n8:15 AM\n5:15 PM
URL:https://blizzardmn.com/event/saturday-blizzard-trip-6-mount-kato/
LOCATION:Mount Kato\, 20461 Old Highway 66\, Mankato\, MN\, 56001
ATTACH;FMTTYPE=image/jpeg:https://blizzardmn.com/wp-content/uploads/Mount-Kato003.jpg
END:VEVENT
BEGIN:VEVENT
DTSTART;VALUE=DATE:20250126
DTEND;VALUE=DATE:20250127
DTSTAMP:20260421T043813
CREATED:20240903T175314Z
LAST-MODIFIED:20250124T045133Z
UID:7608-1737849600-1737935999@blizzardmn.com
SUMMARY:Sunday Blizzard Trip #6 @ Mount Kato
DESCRIPTION:It’s time to travel south to Mankato! Watch for the Jolly Green Giant and Little Sprout on the left just before Le Sueur! \nNew! Pop-up groups!\nPop-up groups are for all Classic members (including Team Blizzard and Apprentice Instructors) and meet at the orange lesson cones at 10:00 AM\, 12:15 PM and/or 2:00 PM. Check out this week’s lesson schedule to find out when and where to meet. No extra cost! No sign-up required! Just more FUN! \nThis week’s topic: RACING! Learn how Mikaele Shiffrin & Ross Rebagliati won gold in the race course! Attend two racing pop-up groups to qualify for the Fun Day NASTAR race on March 2! (Must be in color level Red or above. Racing will be offered again in a few weeks.) \nLessons & Buses\n\nLesson Schedule\nBus Routes\nSpecific bus stop locations\nInviting a guest?\n\n\n\n\nBus Stop\nDepart\nReturn\n\n\nChanhassen\n8:15 AM\n5:15 PM\n\n\nChaska\n8:30 AM\n5:00 PM\n\n\nEdina – City Hall\n8:00 AM\n5:30 PM\n\n\nGolden Valley\n8:15 AM\n5:15 PM\n\n\nLong Lake/Orono\n8:00 AM\n5:30 PM\n\n\nMaple Grove\n8:00 AM\n5:30 PM\n\n\nMendota Heights\n7:45 AM\n5:45 PM\n\n\nMinneapolis – Justice Page\n8:00 AM\n5:30 PM\n\n\nMinnetonka – 7 Hi\n8:00 AM\n5:30 PM\n\n\nMinnetonka – Ridgedale\n8:15 AM\n5:15 PM\n\n\nPlymouth West\n8:00 AM\n5:30 PM\n\n\nShoreview\n7:30 AM\n6:00 PM\n\n\nSt. Louis Park\n8:15 AM\n5:15 PM
URL:https://blizzardmn.com/event/sunday-blizzard-trip-6-mount-kato/
LOCATION:Mount Kato\, 20461 Old Highway 66\, Mankato\, MN\, 56001
ATTACH;FMTTYPE=image/jpeg:https://blizzardmn.com/wp-content/uploads/Mount-Kato003.jpg
END:VEVENT
BEGIN:VEVENT
DTSTART;TZID=America/Menominee:20250128T190000
DTEND;TZID=America/Menominee:20250128T210000
DTSTAMP:20260421T043813
CREATED:20240903T202825Z
LAST-MODIFIED:20241210T034154Z
UID:7678-1738090800-1738098000@blizzardmn.com
SUMMARY:Apprentice Instructors - On-Snow Clinic #4
DESCRIPTION:Grab your gear and head to the slopes for teaching and technical skills. Content will be provided by your Program Directors\, Kati & Jeff. Check your course syllabus and homework assignments!
URL:https://blizzardmn.com/event/apprentice-instructors-on-snow-clinic-4-3/
LOCATION:Hyland Hills Ski Area\, 8800 Chalet Road\, Bloomington\, MN\, 55438
ATTACH;FMTTYPE=image/png:https://blizzardmn.com/wp-content/uploads/superkyds.png
END:VEVENT
END:VCALENDAR