BEGIN:VCALENDAR
VERSION:2.0
PRODID:-//Blizzard Ski and Snowboard School - ECPv6.15.20//NONSGML v1.0//EN
CALSCALE:GREGORIAN
METHOD:PUBLISH
X-WR-CALNAME:Blizzard Ski and Snowboard School
X-ORIGINAL-URL:https://blizzardmn.com
X-WR-CALDESC:Events for Blizzard Ski and Snowboard School
REFRESH-INTERVAL;VALUE=DURATION:PT1H
X-Robots-Tag:noindex
X-PUBLISHED-TTL:PT1H
BEGIN:VTIMEZONE
TZID:America/Menominee
BEGIN:DAYLIGHT
TZOFFSETFROM:-0600
TZOFFSETTO:-0500
TZNAME:CDT
DTSTART:20230312T080000
END:DAYLIGHT
BEGIN:STANDARD
TZOFFSETFROM:-0500
TZOFFSETTO:-0600
TZNAME:CST
DTSTART:20231105T070000
END:STANDARD
BEGIN:DAYLIGHT
TZOFFSETFROM:-0600
TZOFFSETTO:-0500
TZNAME:CDT
DTSTART:20240310T080000
END:DAYLIGHT
BEGIN:STANDARD
TZOFFSETFROM:-0500
TZOFFSETTO:-0600
TZNAME:CST
DTSTART:20241103T070000
END:STANDARD
BEGIN:DAYLIGHT
TZOFFSETFROM:-0600
TZOFFSETTO:-0500
TZNAME:CDT
DTSTART:20250309T080000
END:DAYLIGHT
BEGIN:STANDARD
TZOFFSETFROM:-0500
TZOFFSETTO:-0600
TZNAME:CST
DTSTART:20251102T070000
END:STANDARD
END:VTIMEZONE
BEGIN:VTIMEZONE
TZID:America/Chicago
BEGIN:DAYLIGHT
TZOFFSETFROM:-0600
TZOFFSETTO:-0500
TZNAME:CDT
DTSTART:20230312T080000
END:DAYLIGHT
BEGIN:STANDARD
TZOFFSETFROM:-0500
TZOFFSETTO:-0600
TZNAME:CST
DTSTART:20231105T070000
END:STANDARD
BEGIN:DAYLIGHT
TZOFFSETFROM:-0600
TZOFFSETTO:-0500
TZNAME:CDT
DTSTART:20240310T080000
END:DAYLIGHT
BEGIN:STANDARD
TZOFFSETFROM:-0500
TZOFFSETTO:-0600
TZNAME:CST
DTSTART:20241103T070000
END:STANDARD
BEGIN:DAYLIGHT
TZOFFSETFROM:-0600
TZOFFSETTO:-0500
TZNAME:CDT
DTSTART:20250309T080000
END:DAYLIGHT
BEGIN:STANDARD
TZOFFSETFROM:-0500
TZOFFSETTO:-0600
TZNAME:CST
DTSTART:20251102T070000
END:STANDARD
END:VTIMEZONE
BEGIN:VEVENT
DTSTART;VALUE=DATE:20241201
DTEND;VALUE=DATE:20241202
DTSTAMP:20260421T032045
CREATED:20240903T163512Z
LAST-MODIFIED:20241129T034012Z
UID:7588-1733011200-1733097599@blizzardmn.com
SUMMARY:Thanksgiving Teen & Family Bonus Trip!
DESCRIPTION:With many families together for Thanksgiving\, this is a special TEEN & FAMILY BONUS TRIP for Classic\, Teen Sampler\, Team Blizzard and Apprentice Instructor programs on Saturdays and Sundays. (Our younger SuperMites and SyperKyds start next week; Mites start in January.) \nWant to bring friends or family? Guests must be in 5th grade or older\, must know how to ski or snowboard already\, and must have their own equipment. We are unable to supervise equipment rentals. Guests must be pre-registered. \nGUEST INFO \n  \nImportant:  \nWaivers: You must have a 1Risk Waiver on file before we can issue a lift ticket to you in MN. \nLessons: There are no lessons on this bonus trip. If you are not yet comfortable skiing or snowboarding independently\, please wait until next week for the first Regular Trips of the season. \nBus Routes: Final bus routes \nBus Times: \n\n\n\nBus Stop\nDepart\nReturn\n\n\nChanhassen\n08:00 AM\n05:30 PM\n\n\nEdina – City Hall\n08:15 AM\n05:15 PM\n\n\nMendota Heights\n08:45 AM\n04:45 PM\n\n\nMinnetonka – Ridgedale\n08:00 AM\n05:30 PM\n\n\nShoreview\n08:45 AM\n04:45 PM
URL:https://blizzardmn.com/event/thanksgiving-teen-family-bonus-trip/
LOCATION:Wild Mountain\, 37200 Wild Mountain Rd\, Taylor's Falls\, MN\, 55084
ATTACH;FMTTYPE=image/png:https://blizzardmn.com/wp-content/uploads/Wild-Mountain_2022_website.png
END:VEVENT
BEGIN:VEVENT
DTSTART;TZID=America/Chicago:20241203T190000
DTEND;TZID=America/Chicago:20241203T210000
DTSTAMP:20260421T032045
CREATED:20240903T195347Z
LAST-MODIFIED:20241202T022647Z
UID:7661-1733252400-1733259600@blizzardmn.com
SUMMARY:Apprentice Instructors - Dryland Clinic #1 & Parent Meeting
DESCRIPTION:New Location for the 2024-25 season – St Louis Park Middle School \nKickstart your Apprentice Instructor experience tonight! Learn about expectations\, certification\, the schedule and more! \nAgenda:\n7:00 – 7:30 PM   Apprentice Instructor & Parent meeting\n7:30 – 9:00 PM   Apprentice Instructors only
URL:https://blizzardmn.com/event/apprentice-instructors-dryland-clinic-1-parent-meeting/
LOCATION:St Louis Park Middle School\, 2025 Texas Ave S\, St Louis Park\, MN\, 55426
ATTACH;FMTTYPE=image/png:https://blizzardmn.com/wp-content/uploads/superkyds.png
END:VEVENT
BEGIN:VEVENT
DTSTART;VALUE=DATE:20241207
DTEND;VALUE=DATE:20241208
DTSTAMP:20260421T032045
CREATED:20240903T160745Z
LAST-MODIFIED:20241206T040109Z
UID:7579-1733529600-1733615999@blizzardmn.com
SUMMARY:Saturday Blizzard Trip #1 @ Trollhaugen
DESCRIPTION:Welcome to the 2024-25 Season!\nWe are excited for our first regular trips of the season! \nNew Classic Member Orientation\nNew to Blizzard this season? Graduated from SuperKyds to Classic or Team Blizzard? Have your child in grades 5-12 join our Classic Orientation group during the first few weeks and learn how Blizzard works for the big kids! (SuperMites and SuperKyds should stay with their group.) Our staff will show you when and where to go and you’ll meet other Blizzard members. No registration is required\, just tell the staff on the bus and we’ll take it from there. It’s a great way to get started with Blizzard! \nSaturday Lessons & Buses\n\nLesson Schedule\nBus Routes\nSpecific bus stop locations\nInviting a guest?\n\n  \n\n\n\nBus Stop\nDepart\nReturn\n\n\nBloomington\n08:00 AM\n05:30 PM\n\n\nChanhassen\n07:45 AM\n05:45 PM\n\n\nChaska\n07:30 AM\n06:00 PM\n\n\nEdina – City Hall\n08:00 AM\n05:30 PM\n\n\nGolden Valley\n08:15 AM\n05:15 PM\n\n\nLong Lake/Orono\n08:15 AM\n05:15 PM\n\n\nMaple Grove\n08:15 AM\n05:15 PM\n\n\nMendota Heights\n08:15 AM\n05:15 PM\n\n\nMinneapolis – Justice Page\n08:15 AM\n05:15 PM\n\n\nMinnetonka – 7 Hi\n08:00 AM\n05:30 PM\n\n\nMinnetonka – Ridgedale\n08:00 AM\n05:30 PM\n\n\nMound/Spring Park\n08:00 AM\n05:30 PM\n\n\nOtsego\n07:45 AM\n05:45 PM\n\n\nPlymouth West\n08:00 AM\n05:30 PM\n\n\nShoreview\n08:30 AM\n05:00 PM\n\n\nSt. Louis Park\n08:00 AM\n05:30 PM
URL:https://blizzardmn.com/event/saturday-blizzard-trip-1-trollhaugen/
LOCATION:Trollhaugen\, 2232 100th Ave\, Dresser\, WI\, 54009
ATTACH;FMTTYPE=image/png:https://blizzardmn.com/wp-content/uploads/trollhaugen-logo-11.png
END:VEVENT
BEGIN:VEVENT
DTSTART;VALUE=DATE:20241208
DTEND;VALUE=DATE:20241209
DTSTAMP:20260421T032045
CREATED:20240903T155922Z
LAST-MODIFIED:20241206T040727Z
UID:7575-1733616000-1733702399@blizzardmn.com
SUMMARY:Sunday Blizzard Trip #1 @ Trollhaugen
DESCRIPTION:Welcome to the 2024-25 Season!\nWe are excited for our first regular trips of the season! \nNew Classic Member Orientation\nNew to Blizzard this season? Graduated from SuperKyds to Classic or Team Blizzard? Have your child in grades 5-12 join our Classic Orientation group during the first few weeks and learn how Blizzard works for the big kids! (SuperMites and SuperKyds should stay with their group.) Our staff will show you when and where to go and you’ll meet other Blizzard members. No registration is required\, just tell the staff on the bus and we’ll take it from there. It’s a great way to get started with Blizzard! \nSunday Lessons & Buses\n\nLesson Schedule\nBus Routes\nSpecific bus stop locations\nInviting a guest?\n\n*** NOTE: BUS TIMES CHANGED AT ST. LOUIS PARK! *** \n\n\n\nBus Stop\nDepart\nReturn\n\n\nChanhassen\n07:45 AM\n05:45 PM\n\n\nChaska\n07:30 AM\n06:00 PM\n\n\nEdina – City Hall\n08:00 AM\n05:30 PM\n\n\nGolden Valley\n08:15 AM\n05:15 PM\n\n\nLong Lake/Orono\n08:00 AM\n05:30 PM\n\n\nMaple Grove\n08:15 AM\n05:15 PM\n\n\nMendota Heights\n08:15 AM\n05:15 PM\n\n\nMinneapolis – Justice Page\n08:00 AM\n05:30 PM\n\n\nMinnetonka – 7 Hi\n08:00 AM\n05:30 PM\n\n\nMinnetonka – Ridgedale\n08:15 AM\n05:15 PM\n\n\nPlymouth West\n08:00 AM\n05:30 PM\n\n\nShoreview\n08:30 AM\n05:00 PM\n\n\nSt. Louis Park\n8:15 AM\n5:15 PM
URL:https://blizzardmn.com/event/sunday-blizzard-trip-1-trollhaugen/
LOCATION:Trollhaugen\, 2232 100th Ave\, Dresser\, WI\, 54009
ATTACH;FMTTYPE=image/png:https://blizzardmn.com/wp-content/uploads/trollhaugen-logo-11.png
END:VEVENT
BEGIN:VEVENT
DTSTART;TZID=America/Menominee:20241210T190000
DTEND;TZID=America/Menominee:20241210T210000
DTSTAMP:20260421T032045
CREATED:20240903T195945Z
LAST-MODIFIED:20241210T033404Z
UID:7667-1733857200-1733864400@blizzardmn.com
SUMMARY:Apprentice Instructors - Dryland Clinic #2
DESCRIPTION:Content will be provided by your Program Directors\, Kati & Jeff.  Check your course syllabus and homework assignments!
URL:https://blizzardmn.com/event/apprentice-instructors-dryland-clinic-2-2/
LOCATION:St Louis Park Middle School\, 2025 Texas Ave S\, St Louis Park\, MN\, 55426
ATTACH;FMTTYPE=image/png:https://blizzardmn.com/wp-content/uploads/superkyds.png
END:VEVENT
BEGIN:VEVENT
DTSTART;VALUE=DATE:20241214
DTEND;VALUE=DATE:20241215
DTSTAMP:20260421T032045
CREATED:20240903T161739Z
LAST-MODIFIED:20241213T041449Z
UID:7581-1734134400-1734220799@blizzardmn.com
SUMMARY:Saturday Blizzard Trip #2 @ Wild Mountain
DESCRIPTION:Parent Breakthrough Program\nOur fantastic Parent Breakthrough Program starts this week! Instructors will be in touch with registered parents before the trip. \nNew Classic Member Orientation\nNew to Blizzard this season? Graduated from SuperKyds to Classic or Team Blizzard? Have your child in grades 5-12 join our Classic Orientation group during the first few weeks and learn how Blizzard works for the big kids! (SuperMites and SuperKyds should stay with their group.) Our staff will show you when and where to go and you’ll meet other Blizzard members. No registration is required\, just tell the staff on the bus and we’ll take it from there. It’s a great way to get started with Blizzard! \nLessons & Buses\n\nLesson Schedule\nBus Routes\nSpecific bus stop locations\nInviting a guest?\n\n\n\n\nBus Stop\nDepart\nReturn\n\n\nBloomington\n8:00 AM\n5:30 PM\n\n\nChanhassen\n7:45 AM\n5:45 PM\n\n\nChaska\n7:30 AM\n6:00 PM\n\n\nEdina – City Hall\n8:00 AM\n5:30 PM\n\n\nGolden Valley\n8:15 AM\n5:15 PM\n\n\nLong Lake/Orono\n8:15 AM\n5:15 PM\n\n\nMaple Grove\n8:15 AM\n5:15 PM\n\n\nMendota Heights\n8:15 AM\n5:15 PM\n\n\nMinneapolis – Justice Page\n8:15 AM\n5:15 PM\n\n\nMinnetonka – 7 Hi\n8:00 AM\n5:30 PM\n\n\nMinnetonka – Ridgedale\n8:00 AM\n5:30 PM\n\n\nMound/Spring Park\n8:00 AM\n5:30 PM\n\n\nOtsego\n7:45 AM\n5:45 PM\n\n\nPlymouth West\n8:00 AM\n5:30 PM\n\n\nShoreview\n8:30 AM\n5:00 PM\n\n\nSt. Louis Park\n8:15 AM\n5:15 PM
URL:https://blizzardmn.com/event/saturday-blizzard-trip-2-wild-mountain/
LOCATION:Wild Mountain\, 37200 Wild Mountain Rd\, Taylor's Falls\, MN\, 55084
ATTACH;FMTTYPE=image/png:https://blizzardmn.com/wp-content/uploads/Wild-Mountain_2022_website.png
END:VEVENT
BEGIN:VEVENT
DTSTART;VALUE=DATE:20241215
DTEND;VALUE=DATE:20241216
DTSTAMP:20260421T032045
CREATED:20240903T162032Z
LAST-MODIFIED:20241213T041510Z
UID:7582-1734220800-1734307199@blizzardmn.com
SUMMARY:Sunday Blizzard Trip #2 @ Wild Mountain
DESCRIPTION:Parent Breakthrough Program\nOur fantastic Parent Breakthrough Program starts this week! Instructors will be in touch with registered parents before the trip. \nNew Classic Member Orientation\nNew to Blizzard this season? Graduated from SuperKyds to Classic or Team Blizzard? Have your child in grades 5-12 join our Classic Orientation group during the first few weeks and learn how Blizzard works for the big kids! (SuperMites and SuperKyds should stay with their group.) Our staff will show you when and where to go and you’ll meet other Blizzard members. No registration is required\, just tell the staff on the bus and we’ll take it from there. It’s a great way to get started with Blizzard! \nLessons & Buses\n\nLesson Schedule\nBus Routes\nSpecific bus stop locations\nInviting a guest?\n\n\n\n\nBus Stop\nDepart\nReturn\n\n\nChanhassen\n7:45 AM\n5:45 PM\n\n\nChaska\n7:30 AM\n6:00 PM\n\n\nEdina – City Hall\n8:00 AM\n5:30 PM\n\n\nGolden Valley\n8:15 AM\n5:15 PM\n\n\nLong Lake/Orono\n8:00 AM\n5:30 PM\n\n\nMaple Grove\n8:15 AM\n5:15 PM\n\n\nMendota Heights\n8:15 AM\n5:15 PM\n\n\nMinneapolis – Justice Page\n8:00 AM\n5:30 PM\n\n\nMinnetonka – 7 Hi\n8:00 AM\n5:30 PM\n\n\nMinnetonka – Ridgedale\n8:15 AM\n5:15 PM\n\n\nPlymouth West\n8:00 AM\n5:30 PM\n\n\nShoreview\n8:30 AM\n5:00 PM\n\n\nSt. Louis Park\n8:15 AM\n5:15 PM
URL:https://blizzardmn.com/event/sunday-blizzard-trip-2-wild-mountain/
LOCATION:Wild Mountain\, 37200 Wild Mountain Rd\, Taylor's Falls\, MN\, 55084
ATTACH;FMTTYPE=image/png:https://blizzardmn.com/wp-content/uploads/Wild-Mountain_2022_website.png
END:VEVENT
BEGIN:VEVENT
DTSTART;TZID=America/Menominee:20241217T190000
DTEND;TZID=America/Menominee:20241217T210000
DTSTAMP:20260421T032045
CREATED:20240903T200147Z
LAST-MODIFIED:20241210T033857Z
UID:7670-1734462000-1734469200@blizzardmn.com
SUMMARY:Apprenctice Instructors - Dryland Clinic #3
DESCRIPTION:Content will be provided by your Program Directors\, Kati & Jeff.  Check your course syllabus and homework assignments! \nThere will be no Apprentice clinics on December 24 & January 31 during Winter Break.
URL:https://blizzardmn.com/event/apprenctice-instructors-dryland-clinic-3-3/
LOCATION:St Louis Park Middle School\, 2025 Texas Ave S\, St Louis Park\, MN\, 55426
ATTACH;FMTTYPE=image/png:https://blizzardmn.com/wp-content/uploads/superkyds.png
END:VEVENT
BEGIN:VEVENT
DTSTART;VALUE=DATE:20241221
DTEND;VALUE=DATE:20241222
DTSTAMP:20260421T032045
CREATED:20240903T163101Z
LAST-MODIFIED:20241220T025729Z
UID:7586-1734739200-1734825599@blizzardmn.com
SUMMARY:Saturday Blizzard Trip #3 @ Welch Village
DESCRIPTION:It’s the last Saturday trip before Winter Break! Don’t miss the fun closing out 2024 with your Blizzard friends! \nImportant: \n\nWe are heading south this week\, so your bus times may change from the last two weeks!\nWelch Village is cashless. Only credit or gift cards are accepted for food and other purchases. Cash is not accepted at Welch Village. See their website for details.\nBoot bags are not allowed in the chalet. Only your Blizzard string backback or a regular lunch bag and drink are allowed. All other bags must be left on the bus for the day. Please pack accordingly.\n\nTeen Sampler Program Ends\nThis is the last trip for members in our Teen Sampler Program. We hope you had fun! To continue having a blast with Blizzard each week\, contact the office to register for the rest of the season! \nNew Classic Member Orientation\nNew to Blizzard this season? Graduated from SuperKyds to Classic or Team Blizzard? Have your child in grades 5-12 join our Classic Orientation group during the first few weeks and learn how Blizzard works for the big kids! (SuperMites and SuperKyds should stay with their group.) Our staff will show you when and where to go and you’ll meet other Blizzard members. No registration is required\, just tell the staff on the bus and we’ll take it from there. It’s a great way to get started with Blizzard! \nLessons & Buses\n\nLesson Schedule\nBus Routes\nSpecific bus stop locations\nInviting a guest?\n\n\n\n\nBus Stop\nDepart\nReturn\n\n\nBloomington\n8:15 AM\n5:15 PM\n\n\nChanhassen\n8:00 AM\n5:30 PM\n\n\nChaska\n7:45 AM\n5:45 PM\n\n\nEdina – City Hall\n8:00 AM\n5:30 PM\n\n\nGolden Valley\n8:15 AM\n5:15 PM\n\n\nLong Lake/Orono\n8:15 AM\n5:15 PM\n\n\nMaple Grove\n8:00 AM\n5:30 PM\n\n\nMendota Heights\n8:30 AM\n5:00 PM\n\n\nMinneapolis – Justice Page\n8:30 AM\n5:00 PM\n\n\nMinnetonka – 7 Hi\n8:15 AM\n5:15 PM\n\n\nMinnetonka – Ridgedale\n8:15 AM\n5:15 PM\n\n\nMound/Spring Park\n8:00 AM\n5:30 PM\n\n\nOtsego\n7:45 AM\n5:45 PM\n\n\nPlymouth West\n8:00 AM\n5:30 PM\n\n\nShoreview\n8:30 AM\n5:00 PM\n\n\nSt. Louis Park\n8:15 AM\n5:15 PM
URL:https://blizzardmn.com/event/saturday-blizzard-trip-3-welch-village/
LOCATION:MN
ATTACH;FMTTYPE=image/png:https://blizzardmn.com/wp-content/uploads/Welch-Village003.png
END:VEVENT
BEGIN:VEVENT
DTSTART;VALUE=DATE:20241222
DTEND;VALUE=DATE:20241223
DTSTAMP:20260421T032045
CREATED:20240903T170352Z
LAST-MODIFIED:20241220T025751Z
UID:7600-1734825600-1734911999@blizzardmn.com
SUMMARY:Sunday Blizzard Trip #3 @ Welch Village
DESCRIPTION:It’s the last Sunday trip before Winter Break! Don’t miss the fun closing out 2024 with your Blizzard friends! \nImportant: \n\nWe are heading south this week\, so your bus times may change from the last two weeks!\nWelch Village is cashless. Only credit or gift cards are accepted for food and other purchases. Cash is not accepted at Welch Village. See their website for details.\nBoot bags are not allowed in the chalet. Only your Blizzard string backpack or a regular lunch bag and drink are allowed. All other bags must be left on the bus for the day. Please pack accordingly.\n\nTeen Sampler Program Ends\nThis is the last trip for members in our Teen Sampler Program. We hope you had fun! To continue having a blast with Blizzard each week\, contact the office to register for the rest of the season! \nNew Classic Member Orientation\nNew to Blizzard this season? Graduated from SuperKyds to Classic or Team Blizzard? Have your child in grades 5-12 join our Classic Orientation group during the first few weeks and learn how Blizzard works for the big kids! (SuperMites and SuperKyds should stay with their group.) Our staff will show you when and where to go and you’ll meet other Blizzard members. No registration is required\, just tell the staff on the bus and we’ll take it from there. It’s a great way to get started with Blizzard! \nLessons & Buses\n\nLesson Schedule\nBus Routes\nSpecific bus stop locations\nInviting a guest?\n\n\n\n\nBus Stop\nDepart\nReturn\n\n\nChanhassen\n8:00 AM\n5:30 PM\n\n\nChaska\n7:45 AM\n5:45 PM\n\n\nEdina – City Hall\n8:15 AM\n5:15 PM\n\n\nGolden Valley\n8:00 AM\n5:30 PM\n\n\nLong Lake/Orono\n8:00 AM\n5:30 PM\n\n\nMaple Grove\n8:00 AM\n5:30 PM\n\n\nMendota Heights\n8:30 AM\n5:00 PM\n\n\nMinneapolis – Justice Page\n8:30 AM\n5:00 PM\n\n\nMinnetonka – 7 Hi\n8:15 AM\n5:15 PM\n\n\nMinnetonka – Ridgedale\n8:15 AM\n5:15 PM\n\n\nPlymouth West\n8:15 AM\n5:15 PM\n\n\nShoreview\n8:00 AM\n5:30 PM\n\n\nSt. Louis Park\n8:00 AM\n5:30 PM
URL:https://blizzardmn.com/event/sunday-blizzard-trip-3-welch-village/
LOCATION:MN
ATTACH;FMTTYPE=image/png:https://blizzardmn.com/wp-content/uploads/Welch-Village003.png
END:VEVENT
END:VCALENDAR