BEGIN:VCALENDAR
VERSION:2.0
PRODID:-//Blizzard Ski and Snowboard School - ECPv6.15.20//NONSGML v1.0//EN
CALSCALE:GREGORIAN
METHOD:PUBLISH
X-ORIGINAL-URL:https://blizzardmn.com
X-WR-CALDESC:Events for Blizzard Ski and Snowboard School
REFRESH-INTERVAL;VALUE=DURATION:PT1H
X-Robots-Tag:noindex
X-PUBLISHED-TTL:PT1H
BEGIN:VTIMEZONE
TZID:America/Menominee
BEGIN:DAYLIGHT
TZOFFSETFROM:-0600
TZOFFSETTO:-0500
TZNAME:CDT
DTSTART:20230312T080000
END:DAYLIGHT
BEGIN:STANDARD
TZOFFSETFROM:-0500
TZOFFSETTO:-0600
TZNAME:CST
DTSTART:20231105T070000
END:STANDARD
BEGIN:DAYLIGHT
TZOFFSETFROM:-0600
TZOFFSETTO:-0500
TZNAME:CDT
DTSTART:20240310T080000
END:DAYLIGHT
BEGIN:STANDARD
TZOFFSETFROM:-0500
TZOFFSETTO:-0600
TZNAME:CST
DTSTART:20241103T070000
END:STANDARD
BEGIN:DAYLIGHT
TZOFFSETFROM:-0600
TZOFFSETTO:-0500
TZNAME:CDT
DTSTART:20250309T080000
END:DAYLIGHT
BEGIN:STANDARD
TZOFFSETFROM:-0500
TZOFFSETTO:-0600
TZNAME:CST
DTSTART:20251102T070000
END:STANDARD
END:VTIMEZONE
BEGIN:VEVENT
DTSTART;VALUE=DATE:20240203
DTEND;VALUE=DATE:20240204
DTSTAMP:20260420T032016
CREATED:20221003T012025Z
LAST-MODIFIED:20240202T045948Z
UID:6145-1706918400-1707004799@blizzardmn.com
SUMMARY:Saturday Blizzard Trip #8 @ Powder Ridge
DESCRIPTION:Lessons & Buses\n\nLesson Schedule\nBus Routes\nSpecific bus stop locations\nInviting a guest?\n\nNote: Bus times changed for the Mound/Spring Park bus! \n\n\n\nBus Stop\nDepart\nReturn\n\n\nBloomington\n7:45 AM\n5:45 PM\n\n\nChanhassen\n8:15 AM\n5:15 PM\n\n\nChaska\n7:45 AM\n5:45 PM\n\n\nEdina – City Hall\n8:00 AM\n5:30 PM\n\n\nGolden Valley\n8:00 AM\n5:30 PM\n\n\nLong Lake/Orono\n8:15 AM\n5:15 PM\n\n\nMaple Grove\n8:30 AM\n5:00 PM\n\n\nMendota Heights\n7:45 AM\n5:45 PM\n\n\nMinneapolis – Justice Page\n8:00 AM\n5:30 PM\n\n\nMinnetonka – 7 Hi\n8:15 AM\n5:15 PM\n\n\nMinnetonka – Ridgedale\n8:15 AM\n5:15 PM\n\n\nMound/Spring Park\n8:30 AM\n5:00 PM\n\n\nOtsego\n8:30 AM\n5:00 PM\n\n\nPlymouth West\n8:15 AM\n5:15 PM\n\n\nShoreview\n8:00 AM\n5:30 PM\n\n\nSt. Louis Park\n8:15 AM\n5:15 PM
URL:https://blizzardmn.com/event/blizzard-trip-powder-ridge-3/
LOCATION:MN
ATTACH;FMTTYPE=image/png:https://blizzardmn.com/wp-content/uploads/Powder-Ridge002.png
END:VEVENT
BEGIN:VEVENT
DTSTART;VALUE=DATE:20240204
DTEND;VALUE=DATE:20240205
DTSTAMP:20260420T032016
CREATED:20221003T012119Z
LAST-MODIFIED:20240202T050010Z
UID:6147-1707004800-1707091199@blizzardmn.com
SUMMARY:Sunday Blizzard Trip #8 @ Powder Ridge
DESCRIPTION:Lessons & Buses\n\nLesson Schedule\nBus Routes\nSpecific bus stop locations\nInviting a guest?\n\n\n\n\nBus Stop\nDepart\nReturn\n\n\nChanhassen\n8:15 AM\n5:15 PM\n\n\nChaska\n8:00 AM\n5:30 PM\n\n\nEdina – City Hall\n8:00 AM\n5:30 PM\n\n\nGolden Valley\n8:15 AM\n5:15 PM\n\n\nLong Lake/Orono\n8:15 AM\n5:15 PM\n\n\nMaple Grove\n8:30 AM\n5:00 PM\n\n\nMendota Heights\n7:45 AM\n5:45 PM\n\n\nMinneapolis – Justice Page\n7:45 AM\n5:45 PM\n\n\nMinnetonka – 7 Hi\n8:15 AM\n5:15 PM\n\n\nMinnetonka – Ridgedale\n8:15 AM\n5:15 PM\n\n\nPlymouth West\n8:30 AM\n5:00 PM\n\n\nShoreview\n8:00 AM\n5:30 PM\n\n\nSt. Louis Park\n8:00 AM\n5:30 PM
URL:https://blizzardmn.com/event/blizzard-trip-powder-ridge-4/
LOCATION:MN
ATTACH;FMTTYPE=image/png:https://blizzardmn.com/wp-content/uploads/Powder-Ridge002.png
END:VEVENT
BEGIN:VEVENT
DTSTART;TZID=America/Menominee:20240206T190000
DTEND;TZID=America/Menominee:20240206T210000
DTSTAMP:20260420T032016
CREATED:20231207T021341Z
LAST-MODIFIED:20231207T021341Z
UID:7189-1707246000-1707253200@blizzardmn.com
SUMMARY:Apprentice Instructors - On-Snow Clinic #5
DESCRIPTION:Grab your gear and head to the slopes for teaching and technical skills. Content will be provided by your Program Directors\, Tim\, Kati & Jeff.  Check your course syllabus and homework assignments!
URL:https://blizzardmn.com/event/apprentice-instructors-on-snow-clinic-5-2/
LOCATION:Hyland Hills Ski Area\, 8800 Chalet Road\, Bloomington\, MN\, 55438
ATTACH;FMTTYPE=image/png:https://blizzardmn.com/wp-content/uploads/superkyds.png
END:VEVENT
BEGIN:VEVENT
DTSTART;VALUE=DATE:20240210
DTEND;VALUE=DATE:20240211
DTSTAMP:20260420T032016
CREATED:20221003T012213Z
LAST-MODIFIED:20240209T025246Z
UID:6149-1707523200-1707609599@blizzardmn.com
SUMMARY:Saturday Blizzard Trip #9 @ Mount Kato
DESCRIPTION:Apprentice Instructor Clinic & Potluck Lunch!\nApprentice Instructors have an all-day clinic from 10:00 AM – 3:00 PM! Everyone will get feedback on their skiing/riding and have an opportunity to teach. For Apprentices taking the Rainbow Exam this season\, this is a good “final check” for what you need to work on! It’s a great way to work through any test anxiety in a relaxed\, supportive environment. \nIt’s also our annual Apprentice potluck lunch! Check out Google Classroom for the potluck signup sheet. \nLessons & Buses\n\nLesson Schedule\nBus Routes\nSpecific bus stop locations\nInviting a guest?\n\n\n\n\nBus Stop\nDepart\nReturn\n\n\nBloomington\n8:00 AM\n5:30 PM\n\n\nChanhassen\n8:15 AM\n5:15 PM\n\n\nChaska\n8:30 AM\n5:00 PM\n\n\nEdina – City Hall\n8:00 AM\n5:30 PM\n\n\nGolden Valley\n7:45 AM\n5:45 PM\n\n\nLong Lake/Orono\n8:00 AM\n5:30 PM\n\n\nMaple Grove\n7:45 AM\n5:45 PM\n\n\nMendota Heights\n8:00 AM\n5:30 PM\n\n\nMinneapolis – Justice Page\n7:45 AM\n5:45 PM\n\n\nMinnetonka – 7 Hi\n8:00 AM\n5:30 PM\n\n\nMinnetonka – Ridgedale\n8:00 AM\n5:30 PM\n\n\nMound/Spring Park\n8:00 AM\n5:30 PM\n\n\nOtsego\n7:30 AM\n6:00 PM\n\n\nPlymouth West\n8:00 AM\n5:30 PM\n\n\nShoreview\n7:30 AM\n6:00 PM\n\n\nSt. Louis Park\n7:45 AM\n5:45 PM
URL:https://blizzardmn.com/event/blizzard-sat-trip-9/
LOCATION:MN
ATTACH;FMTTYPE=image/jpeg:https://blizzardmn.com/wp-content/uploads/Mount-Kato003.jpg
END:VEVENT
BEGIN:VEVENT
DTSTART;TZID=America/Menominee:20240210T100000
DTEND;TZID=America/Menominee:20240210T150000
DTSTAMP:20260420T032016
CREATED:20231207T020429Z
LAST-MODIFIED:20240205T043718Z
UID:7190-1707559200-1707577200@blizzardmn.com
SUMMARY:Apprentice Instructors - Mock Exam & Potluck
DESCRIPTION:Apprentice Instructors have an all-day clinic from 10:00 AM – 3:00 PM! Everyone will get feedback on their skiing/riding and have an opportunity to teach. For Apprentices taking the Rainbow Exam this season\, this is a good “final check” for what you need to work on! It’s a great way to work through any test anxiety in a relaxed\, supportive environment. \nIt’s also our annual Apprentice potluck lunch! Check out Google Classroom for the potluck signup sheet. \n  \nNOTE: The regular Blizzard buses are available for transportation to Mount Kato. Watch for your invitations and select your bus when you register. See the Saturday trip info for bus times.
URL:https://blizzardmn.com/event/apprentice-instructors-mock-exam-potluck-2/
LOCATION:Mount Kato\, 20461 Old Highway 66\, Mankato\, MN\, 56001
ATTACH;FMTTYPE=image/png:https://blizzardmn.com/wp-content/uploads/superkyds.png
END:VEVENT
BEGIN:VEVENT
DTSTART;TZID=America/Menominee:20240213T190000
DTEND;TZID=America/Menominee:20240213T210000
DTSTAMP:20260420T032016
CREATED:20231207T030026Z
LAST-MODIFIED:20231207T030410Z
UID:7203-1707850800-1707858000@blizzardmn.com
SUMMARY:Apprentice Instructors - On-Snow Clinic #6
DESCRIPTION:Grab your gear and head to the slopes for teaching and technical skills. Content will be provided by your Program Directors\, Tim\, Kati & Jeff.  Check your course syllabus and homework assignments!
URL:https://blizzardmn.com/event/apprentice-instructors-on-snow-clinic-6/
LOCATION:Hyland Hills Ski Area\, 8800 Chalet Road\, Bloomington\, MN\, 55438
ATTACH;FMTTYPE=image/png:https://blizzardmn.com/wp-content/uploads/superkyds.png
END:VEVENT
BEGIN:VEVENT
DTSTART;VALUE=DATE:20240217
DTEND;VALUE=DATE:20240218
DTSTAMP:20260420T032016
CREATED:20221003T012451Z
LAST-MODIFIED:20240216T060048Z
UID:6153-1708128000-1708214399@blizzardmn.com
SUMMARY:Saturday Blizzard Trip #10 @ Wild Mountain
DESCRIPTION:It’s Picnic Day!\nEnjoy all-beef hotdogs\, chips\, cookies and beverages\, compliments of Blizzard! Veggie dogs and GF options are available. It’s our way of saying thanks for a great season! \nApprentice Instructor Program Preview!\nIf you’re in 8th-11th grade\, find out what it’s like to teach skiing & snowboarding! Go to Cone #1 at 10:00 to learn about the Apprentice Instructor Program! Skiers need to be in Color Level White or above; snowboarders need to be Brown or above. \nGiant’s Ridge Bonus Trip: March 2!\nSchool’s out and there’s no better way to spend the day than on the slopes with Blizzard! Members in our Classic\, Team Blizzard and Apprentice Instructor programs are welcome solo or with friends in grades 5-12. Younger siblings and members are welcome with a parent or guardian.  >> More info! \nLessons & Buses\n\nLesson Schedule\nBus Routes\nSpecific bus stop locations\nInviting a guest?\n\n\n\n\nBus Stop\nDepart\nReturn\n\n\nBloomington\n8:00 AM\n5:30 PM\n\n\nChanhassen\n7:45 AM\n5:45 PM\n\n\nChaska\n7:30 AM\n6:00 PM\n\n\nEdina – City Hall\n8:00 AM\n5:30 PM\n\n\nGolden Valley\n8:15 AM\n5:15 PM\n\n\nLong Lake/Orono\n8:15 AM\n5:15 PM\n\n\nMaple Grove\n8:15 AM\n5:15 PM\n\n\nMendota Heights\n8:15 AM\n5:15 PM\n\n\nMinneapolis – Justice Page\n8:15 AM\n5:15 PM\n\n\nMinnetonka – 7 Hi\n8:00 AM\n5:30 PM\n\n\nMinnetonka – Ridgedale\n8:00 AM\n5:30 PM\n\n\nMound/Spring Park\n8:00 AM\n5:30 PM\n\n\nOtsego\n8:00 AM\n5:30 PM\n\n\nPlymouth West\n8:00 AM\n5:30 PM\n\n\nShoreview\n8:30 AM\n5:00 PM\n\n\nSt. Louis Park\n8:15 AM\n5:15 PM
URL:https://blizzardmn.com/event/blizzard-trip-wild-mountain-7/
LOCATION:MN
ATTACH;FMTTYPE=image/png:https://blizzardmn.com/wp-content/uploads/Wild-Mountain_2022_website.png
END:VEVENT
BEGIN:VEVENT
DTSTART;VALUE=DATE:20240218
DTEND;VALUE=DATE:20240219
DTSTAMP:20260420T032016
CREATED:20221003T012722Z
LAST-MODIFIED:20240216T060228Z
UID:6155-1708214400-1708300799@blizzardmn.com
SUMMARY:Sunday Blizzard Trip #10 @ Wild Mountain
DESCRIPTION:It’s Picnic Day!\nEnjoy all-beef hotdogs\, chips\, cookies and beverages\, compliments of Blizzard! Veggie dogs and GF options are available. It’s our way of saying thanks for a great season! \nApprentice Instructor Program Preview!\nIf you’re in 8th-11th grade\, find out what it’s like to teach skiing & snowboarding! Go to Cone #1 at 10:00 to learn about the Apprentice Instructor Program! Skiers need to be in Color Level White or above; snowboarders need to be Brown or above. \nGiant’s Ridge Bonus Trip: March 2!\nSchool’s out and there’s no better way to spend the day than on the slopes with Blizzard! Members in our Classic\, Team Blizzard and Apprentice Instructor programs are welcome solo or with friends in grades 5-12. Younger siblings and members are welcome with a parent or guardian.  >> More info! \nLessons & Buses\n\nLesson Schedule\nBus Routes\nSpecific bus stop locations\nInviting a guest?\n\nBus time changes at Golden Valley and Maple Grove! \n\n\n\nBus Stop\nDepart\nReturn\n\n\nChanhassen\n7:45 AM\n5:45 PM\n\n\nChaska\n7:45 AM\n5:45 PM\n\n\nEdina – City Hall\n8:00 AM\n5:30 PM\n\n\nGolden Valley\n8:30 AM\n5:00 PM\n\n\nLong Lake/Orono\n8:15 AM\n5:15 PM\n\n\nMaple Grove\n8:30 AM\n5:00 PM\n\n\nMendota Heights\n8:00 AM\n5:30 PM\n\n\nMinneapolis – Justice Page\n8:15 AM\n5:15 PM\n\n\nMinnetonka – 7 Hi\n8:15 AM\n5:15 PM\n\n\nMinnetonka – Ridgedale\n8:00 AM\n5:30 PM\n\n\nPlymouth West\n8:15 AM\n5:15 PM\n\n\nShoreview\n8:30 AM\n5:00 PM\n\n\nSt. Louis Park\n8:15 AM\n5:15 PM
URL:https://blizzardmn.com/event/blizzard-trip-wild-mountain-8/
LOCATION:MN
ATTACH;FMTTYPE=image/png:https://blizzardmn.com/wp-content/uploads/Wild-Mountain_2022_website.png
END:VEVENT
BEGIN:VEVENT
DTSTART;TZID=America/Menominee:20240220T190000
DTEND;TZID=America/Menominee:20240220T210000
DTSTAMP:20260420T032016
CREATED:20231207T030847Z
LAST-MODIFIED:20231207T030847Z
UID:7208-1708455600-1708462800@blizzardmn.com
SUMMARY:Apprentice Instructors - Make-up Clinic
DESCRIPTION:Grab your gear and head to the slopes for teaching and technical skills. Content will be provided by your Program Directors\, Tim\, Kati & Jeff.  Check your course syllabus and homework assignments! \nNOTE: This clinic will happen only if needed for a make-up session.
URL:https://blizzardmn.com/event/apprentice-instructors-make-up-clinic-2/
LOCATION:Hyland Hills Ski Area\, 8800 Chalet Road\, Bloomington\, MN\, 55438
ATTACH;FMTTYPE=image/png:https://blizzardmn.com/wp-content/uploads/superkyds.png
END:VEVENT
BEGIN:VEVENT
DTSTART;VALUE=DATE:20240224
DTEND;VALUE=DATE:20240225
DTSTAMP:20260420T032016
CREATED:20221003T013122Z
LAST-MODIFIED:20240223T041549Z
UID:6158-1708732800-1708819199@blizzardmn.com
SUMMARY:Saturday Blizzard Trip #11 @ Trollhaugen
DESCRIPTION:Family Fun Day!\nParents\, come on out and hit the slopes with Blizzard this week! See what your children have learned this season! You can even participate in all the fun activities on the hill: slalom races\, synchronized skiing & snowboarding and more…it’s a great way to end the Blizzard season! \nHere’s a short video explaining what Family Fun Day is all about! We’re changing things up this season\, but you’ll get the general idea! \n﻿﻿ \nLessons & Buses\n\nLesson Schedule\nBus Routes\nSpecific bus stop locations\nInviting a guest?\n\nBus time changes at Maple Grove! \n\n\n\nBus Stop\nDepart\nReturn\n\n\nBloomington\n8:00 AM\n5:30 PM\n\n\nChanhassen\n7:45 AM\n5:45 PM\n\n\nChaska\n7:30 AM\n6:00 PM\n\n\nEdina – City Hall\n8:00 AM\n5:30 PM\n\n\nGolden Valley\n8:15 AM\n5:15 PM\n\n\nLong Lake/Orono\n8:15 AM\n5:15 PM\n\n\nMaple Grove\n8:30 AM\n5:00 PM\n\n\nMendota Heights\n8:15 AM\n5:15 PM\n\n\nMinneapolis – Justice Page\n8:15 AM\n5:15 PM\n\n\nMinnetonka – 7 Hi\n8:00 AM\n5:30 PM\n\n\nMinnetonka – Ridgedale\n8:00 AM\n5:30 PM\n\n\nMound/Spring Park\n8:00 AM\n5:30 PM\n\n\nOtsego\n8:00 AM\n5:30 PM\n\n\nPlymouth West\n8:00 AM\n5:30 PM\n\n\nShoreview\n8:30 AM\n5:00 PM\n\n\nSt. Louis Park\n8:15 AM\n5:15 PM\n\n\n\n 
URL:https://blizzardmn.com/event/blizzard-trip-trollhaugen-3/
LOCATION:MN
ATTACH;FMTTYPE=image/png:https://blizzardmn.com/wp-content/uploads/trollhaugen-logo-11.png
END:VEVENT
BEGIN:VEVENT
DTSTART;TZID=America/Menominee:20240224T100000
DTEND;TZID=America/Menominee:20240225T150000
DTSTAMP:20260420T032016
CREATED:20231207T024129Z
LAST-MODIFIED:20231207T024413Z
UID:7188-1708768800-1708873200@blizzardmn.com
SUMMARY:Apprentice Instructors - On-Snow Rainbow Exam
DESCRIPTION:Today is the day! The culmination of everything you’ve learned during the season — the prestigious Rainbow Exam (only about 150 Rainbow Instructors in our 60 year history!).  More details will be provided by your Program Directors Tim\, Kati & Jeff. \nAttend on Saturday\, Feb 24 OR Sunday\, Feb 25.  You do not attend both days. \nNOTE:  The Blizzard bus is available for transportation to Trollhaugen.  Please contact the office if you are interested.
URL:https://blizzardmn.com/event/apprentice-instructors-on-snow-rainbow-exam-2/
LOCATION:Trollhaugen\, 2232 100th Ave\, Dresser\, WI\, 54009
ATTACH;FMTTYPE=image/png:https://blizzardmn.com/wp-content/uploads/superkyds.png
END:VEVENT
BEGIN:VEVENT
DTSTART;VALUE=DATE:20240225
DTEND;VALUE=DATE:20240226
DTSTAMP:20260420T032016
CREATED:20221003T013214Z
LAST-MODIFIED:20240223T041529Z
UID:6160-1708819200-1708905599@blizzardmn.com
SUMMARY:Sunday Blizzard Trip #11 @ Trollhaugen
DESCRIPTION:Family Fun Day!\nParents\, come on out and hit the slopes with Blizzard this week! See what your children have learned this season! You can even participate in all the fun activities on the hill: slalom races\, synchronized skiing & snowboarding and more…it’s a great way to end the Blizzard season! \nHere’s a short video explaining what Family Fun Day is all about! We’re changing things up this season\, but you’ll get the general idea! \n﻿﻿ \nLessons & Buses\n\nLesson Schedule\nBus Routes\nSpecific bus stop locations\nInviting a guest?\n\nBus time changes at Maple Grove! \n\n\n\nBus Stop\nDepart\nReturn\n\n\nChanhassen\n7:45 AM\n5:45 PM\n\n\nChaska\n7:45 AM\n5:45 PM\n\n\nEdina – City Hall\n8:00 AM\n5:30 PM\n\n\nGolden Valley\n8:00 AM\n5:30 PM\n\n\nLong Lake/Orono\n8:15 AM\n5:15 PM\n\n\nMaple Grove\n8:30 AM\n5:00 PM\n\n\nMendota Heights\n8:00 AM\n5:30 PM\n\n\nMinneapolis – Justice Page\n8:15 AM\n5:15 PM\n\n\nMinnetonka – 7 Hi\n8:15 AM\n5:15 PM\n\n\nMinnetonka – Ridgedale\n8:00 AM\n5:30 PM\n\n\nPlymouth West\n8:15 AM\n5:15 PM\n\n\nShoreview\n8:30 AM\n5:00 PM\n\n\nSt. Louis Park\n8:15 AM\n5:15 PM
URL:https://blizzardmn.com/event/blizzard-trip-trollhaugen-4/
LOCATION:MN
ATTACH;FMTTYPE=image/png:https://blizzardmn.com/wp-content/uploads/trollhaugen-logo-11.png
END:VEVENT
BEGIN:VEVENT
DTSTART;TZID=America/Menominee:20240227T190000
DTEND;TZID=America/Menominee:20240227T210000
DTSTAMP:20260420T032016
CREATED:20231207T015319Z
LAST-MODIFIED:20240129T080503Z
UID:7186-1709060400-1709067600@blizzardmn.com
SUMMARY:Apprentice Instructors - Pizza Party & Exam Results
DESCRIPTION:It’s time for celebration! Pizza! Free ski/ride with friends! And find our your results from the Rainbow Exam!
URL:https://blizzardmn.com/event/apprentice-instructors-pizza-party-exam-results-2/
LOCATION:Hyland Hills Ski Area\, 8800 Chalet Road\, Bloomington\, MN\, 55438
ATTACH;FMTTYPE=image/png:https://blizzardmn.com/wp-content/uploads/Rainbow-Instructor-Pin-4-2.png
END:VEVENT
END:VCALENDAR