BEGIN:VCALENDAR
VERSION:2.0
PRODID:-//Blizzard Ski and Snowboard School - ECPv6.15.20//NONSGML v1.0//EN
CALSCALE:GREGORIAN
METHOD:PUBLISH
X-ORIGINAL-URL:https://blizzardmn.com
X-WR-CALDESC:Events for Blizzard Ski and Snowboard School
REFRESH-INTERVAL;VALUE=DURATION:PT1H
X-Robots-Tag:noindex
X-PUBLISHED-TTL:PT1H
BEGIN:VTIMEZONE
TZID:America/Chicago
BEGIN:DAYLIGHT
TZOFFSETFROM:-0600
TZOFFSETTO:-0500
TZNAME:CDT
DTSTART:20220313T080000
END:DAYLIGHT
BEGIN:STANDARD
TZOFFSETFROM:-0500
TZOFFSETTO:-0600
TZNAME:CST
DTSTART:20221106T070000
END:STANDARD
BEGIN:DAYLIGHT
TZOFFSETFROM:-0600
TZOFFSETTO:-0500
TZNAME:CDT
DTSTART:20230312T080000
END:DAYLIGHT
BEGIN:STANDARD
TZOFFSETFROM:-0500
TZOFFSETTO:-0600
TZNAME:CST
DTSTART:20231105T070000
END:STANDARD
BEGIN:DAYLIGHT
TZOFFSETFROM:-0600
TZOFFSETTO:-0500
TZNAME:CDT
DTSTART:20240310T080000
END:DAYLIGHT
BEGIN:STANDARD
TZOFFSETFROM:-0500
TZOFFSETTO:-0600
TZNAME:CST
DTSTART:20241103T070000
END:STANDARD
END:VTIMEZONE
BEGIN:VTIMEZONE
TZID:America/Menominee
BEGIN:DAYLIGHT
TZOFFSETFROM:-0600
TZOFFSETTO:-0500
TZNAME:CDT
DTSTART:20220313T080000
END:DAYLIGHT
BEGIN:STANDARD
TZOFFSETFROM:-0500
TZOFFSETTO:-0600
TZNAME:CST
DTSTART:20221106T070000
END:STANDARD
BEGIN:DAYLIGHT
TZOFFSETFROM:-0600
TZOFFSETTO:-0500
TZNAME:CDT
DTSTART:20230312T080000
END:DAYLIGHT
BEGIN:STANDARD
TZOFFSETFROM:-0500
TZOFFSETTO:-0600
TZNAME:CST
DTSTART:20231105T070000
END:STANDARD
BEGIN:DAYLIGHT
TZOFFSETFROM:-0600
TZOFFSETTO:-0500
TZNAME:CDT
DTSTART:20240310T080000
END:DAYLIGHT
BEGIN:STANDARD
TZOFFSETFROM:-0500
TZOFFSETTO:-0600
TZNAME:CST
DTSTART:20241103T070000
END:STANDARD
END:VTIMEZONE
BEGIN:VEVENT
DTSTART;TZID=America/Chicago:20231104T100000
DTEND;TZID=America/Chicago:20231104T160000
DTSTAMP:20260422T090323
CREATED:20220824T145334Z
LAST-MODIFIED:20230904T210743Z
UID:5901-1699092000-1699113600@blizzardmn.com
SUMMARY:Powder Ridge Swap
DESCRIPTION:Saturday\, November 4th – 10am to 4pm \n\nWe’ll have ski and snowboard equipment for kids and adults\, plus all the accessories\, along with an assortment of outdoor recreational gear. \n\n\n\n\nIf you are interested in selling an item\, please drop off your item(s) between 9AM and 10AM on November 4th.\nThere is a $2 check-in fee per item\, with a 10% of sale price fee for items that sell. \nItems that did not sell can be picked-up from 4PM to 6PM
URL:https://blizzardmn.com/event/powder-ridge-swap/
LOCATION:MN
ATTACH;FMTTYPE=image/jpeg:https://blizzardmn.com/wp-content/uploads/230px-230px-5f82f4f66917d.jpg
END:VEVENT
BEGIN:VEVENT
DTSTART;TZID=America/Chicago:20231113T190000
DTEND;TZID=America/Chicago:20231113T190000
DTSTAMP:20260422T090323
CREATED:20220906T202929Z
LAST-MODIFIED:20231117T042651Z
UID:5997-1699902000-1699902000@blizzardmn.com
SUMMARY:Blizzard Family Information Session (Zoom)
DESCRIPTION:We are so excited for the 2023-24 season and can’t wait to be on the slopes with your children! Owners\, Jeff and Jen Lewin\, will provide an overview of the typical Blizzard day from getting on the morning bus to arriving at the ski areas\, to how lessons are provided\, lunch schedule and the return home on the afternoon bus. All your questions from equipment\, costs\, program ratios\, advancement\, trip locations and more will be answered. \n  \nThe meeting recording is now available!  \n  \nParent Feedback: \n“Thanks!  This information session is SUPER helpful!  Thanks for providing it!” – Jill Perkins\, Blizzard Parent \n“Excellent info session- thank you!”  – Anji Johnson\, Blizzard Parent \n 
URL:https://blizzardmn.com/event/blizzard-family-information-session/
LOCATION:MN
ATTACH;FMTTYPE=image/jpeg:https://blizzardmn.com/wp-content/uploads/GettyImages-917587490-e1666214025278.jpg
END:VEVENT
BEGIN:VEVENT
DTSTART;VALUE=DATE:20231126
DTEND;VALUE=DATE:20231127
DTSTAMP:20260422T090323
CREATED:20221002T211356Z
LAST-MODIFIED:20231124T164912Z
UID:6106-1700956800-1701043199@blizzardmn.com
SUMMARY:Thanksgiving Teen & Family Bonus Trip!
DESCRIPTION:CANCELLED! The warm weather did not allow Wild Mountain’s awesome snow making team to get enough terrain open for us to run the trip. We hope to see everyone next week! \nWith many families together for Thanksgiving\, this is a special TEEN & FAMILY BONUS TRIP for Classic\, Teen Sampler\, Team Blizzard and Apprentice Instructor programs on Saturdays and Sundays. (Our younger SuperMites and SyperKyds start next week.) \nWe know you’re wondering: Where’s the snow???\nWild Mountain will start making snow on Wednesday evening. We will know by noon on Friday if they will have enough runs for us on Sunday. Please RSVP assuming Wild is ready! We will post a final decision on Friday. \nWant to bring friends or family? Guests must be in 5th grade or older\, must know how to ski or snowboard already\, and must have their own equipment. We are unable to supervise equipment rentals. Guests must be pre-registered. \nGUEST INFO \n  \nImportant: You must have a 1Risk Waiver on file before we can issue a lift ticket to you in MN. \nLessons \nThere are no lessons on this bonus trip. If you are not yet comfortable skiing or snowboarding independently\, please wait until next week for the first Regular Trips of the season. \nBuses \nWe will be running limited bus routes for this bonus trip. If you are not riding from your regular bus stop\, please verify your exact bus stop location! \n\n\n\nBus Stop\nDepart\nReturn\n\n\nChanhassen\n8:00 AM\n5:30 PM\n\n\nEdina – City Hall\n8:15 AM\n5:15 PM\n\n\nMendota Heights\n8:45 AM\n4:45 PM\n\n\nMinnetonka – Ridgedale\n8:00 AM\n5:30 PM\n\n\nPlymouth West\n8:15 AM\n5:15 PM\n\n\nShoreview\n8:45 AM\n4:45 PM\n\n\n\nFinal bus routes will be posted Friday
URL:https://blizzardmn.com/event/wild-mountain-teen-family-trip/
LOCATION:Wild Mountain\, 37200 Wild Mountain Rd\, Taylor's Falls\, MN\, 55084
ATTACH;FMTTYPE=image/png:https://blizzardmn.com/wp-content/uploads/Wild-Mountain_2022_website.png
END:VEVENT
END:VCALENDAR