BEGIN:VCALENDAR
VERSION:2.0
PRODID:-//Blizzard Ski and Snowboard School - ECPv6.15.20//NONSGML v1.0//EN
CALSCALE:GREGORIAN
METHOD:PUBLISH
X-WR-CALNAME:Blizzard Ski and Snowboard School
X-ORIGINAL-URL:https://blizzardmn.com
X-WR-CALDESC:Events for Blizzard Ski and Snowboard School
REFRESH-INTERVAL;VALUE=DURATION:PT1H
X-Robots-Tag:noindex
X-PUBLISHED-TTL:PT1H
BEGIN:VTIMEZONE
TZID:America/Menominee
BEGIN:DAYLIGHT
TZOFFSETFROM:-0600
TZOFFSETTO:-0500
TZNAME:CDT
DTSTART:20220313T080000
END:DAYLIGHT
BEGIN:STANDARD
TZOFFSETFROM:-0500
TZOFFSETTO:-0600
TZNAME:CST
DTSTART:20221106T070000
END:STANDARD
BEGIN:DAYLIGHT
TZOFFSETFROM:-0600
TZOFFSETTO:-0500
TZNAME:CDT
DTSTART:20230312T080000
END:DAYLIGHT
BEGIN:STANDARD
TZOFFSETFROM:-0500
TZOFFSETTO:-0600
TZNAME:CST
DTSTART:20231105T070000
END:STANDARD
BEGIN:DAYLIGHT
TZOFFSETFROM:-0600
TZOFFSETTO:-0500
TZNAME:CDT
DTSTART:20240310T080000
END:DAYLIGHT
BEGIN:STANDARD
TZOFFSETFROM:-0500
TZOFFSETTO:-0600
TZNAME:CST
DTSTART:20241103T070000
END:STANDARD
END:VTIMEZONE
BEGIN:VEVENT
DTSTART;TZID=America/Menominee:20230206T190000
DTEND;TZID=America/Menominee:20230206T210000
DTSTAMP:20260422T205223
CREATED:20221206T002603Z
LAST-MODIFIED:20221206T002603Z
UID:6561-1675710000-1675717200@blizzardmn.com
SUMMARY:Apprentice Instructors - On-Snow Clinic #4
DESCRIPTION:Grab your gear and head to the slopes for teaching and technical skills. Content will be provided by your Program Directors\, Tim\, Ty & Sydney.  Check your course syllabus and homework assignments!
URL:https://blizzardmn.com/event/apprentice-instructors-on-snow-clinic-4/
LOCATION:Hyland Hills Ski Area\, 8800 Chalet Road\, Bloomington\, MN\, 55438
ATTACH;FMTTYPE=image/png:https://blizzardmn.com/wp-content/uploads/superkyds.png
END:VEVENT
BEGIN:VEVENT
DTSTART;TZID=America/Menominee:20230212T100000
DTEND;TZID=America/Menominee:20230212T150000
DTSTAMP:20260422T205223
CREATED:20221206T004417Z
LAST-MODIFIED:20221206T004417Z
UID:6565-1676196000-1676214000@blizzardmn.com
SUMMARY:Apprentice Instructors - Mock Exam & Potluck
DESCRIPTION:THIS IS AN IMPORTANT CLINIC!!  It’s the Mock Exam\, the culmination of everything you’ve learned during the season to prepare you for the prestigious Rainbow Exam (only about 150 Rainbow Instructors in our 60 year history!). And\, a group potluck lunch.  More details will be provided by your Program Directors Tim\, Ty & Sydney. \n  \nNOTE:  The Blizzard bus is available for transportation to Afton Alps.  Please contact the office if you are interested.
URL:https://blizzardmn.com/event/apprentice-instructors-mock-exam-potluck/
LOCATION:Afton Alps\, 6600 Peller Avenue South\, Hastings\, MN\, 55033
ATTACH;FMTTYPE=image/png:https://blizzardmn.com/wp-content/uploads/superkyds.png
END:VEVENT
BEGIN:VEVENT
DTSTART;TZID=America/Menominee:20230213T190000
DTEND;TZID=America/Menominee:20230213T210000
DTSTAMP:20260422T205223
CREATED:20221206T002647Z
LAST-MODIFIED:20221206T002647Z
UID:6563-1676314800-1676322000@blizzardmn.com
SUMMARY:Apprentice Instructors - On-Snow Clinic #5
DESCRIPTION:Grab your gear and head to the slopes for teaching and technical skills. Content will be provided by your Program Directors\, Tim\, Ty & Sydney.  Check your course syllabus and homework assignments!
URL:https://blizzardmn.com/event/apprentice-instructors-on-snow-clinic-5/
LOCATION:Hyland Hills Ski Area\, 8800 Chalet Road\, Bloomington\, MN\, 55438
ATTACH;FMTTYPE=image/png:https://blizzardmn.com/wp-content/uploads/superkyds.png
END:VEVENT
BEGIN:VEVENT
DTSTART;TZID=America/Menominee:20230220T190000
DTEND;TZID=America/Menominee:20230220T210000
DTSTAMP:20260422T205223
CREATED:20221206T004854Z
LAST-MODIFIED:20221206T004854Z
UID:6570-1676919600-1676926800@blizzardmn.com
SUMMARY:Apprentice Instructors - Make-up Clinic
DESCRIPTION:Grab your gear and head to the slopes for teaching and technical skills. Content will be provided by your Program Directors\, Tim\, Ty & Sydney.  Check your course syllabus and homework assignments! \nNOTE: This clinic will happen only if needed for a make-up session.
URL:https://blizzardmn.com/event/apprentice-instructors-make-up-clinic/
LOCATION:Hyland Hills Ski Area\, 8800 Chalet Road\, Bloomington\, MN\, 55438
ATTACH;FMTTYPE=image/png:https://blizzardmn.com/wp-content/uploads/superkyds.png
END:VEVENT
BEGIN:VEVENT
DTSTART;TZID=America/Menominee:20230225T100000
DTEND;TZID=America/Menominee:20230226T150000
DTSTAMP:20260422T205223
CREATED:20221206T004656Z
LAST-MODIFIED:20221206T004656Z
UID:6568-1677319200-1677423600@blizzardmn.com
SUMMARY:Apprentice Instructors - On-Snow Rainbow Exam
DESCRIPTION:Today is the day! The culmination of everything you’ve learned during the season — the prestigious Rainbow Exam (only about 150 Rainbow Instructors in our 60 year history!).  More details will be provided by your Program Directors Tim\, Ty & Sydney. \nAttend on Saturday\, Feb 25 OR Sunday\, Feb 26.  You do not attend both days. \nNOTE:  The Blizzard bus is available for transportation to Trollhaugen.  Please contact the office if you are interested.
URL:https://blizzardmn.com/event/apprentice-instructors-on-snow-rainbow-exam/
LOCATION:Trollhaugen\, 2232 100th Ave\, Dresser\, WI\, 54009
ATTACH;FMTTYPE=image/png:https://blizzardmn.com/wp-content/uploads/superkyds.png
END:VEVENT
BEGIN:VEVENT
DTSTART;TZID=America/Menominee:20230227T190000
DTEND;TZID=America/Menominee:20230227T210000
DTSTAMP:20260422T205223
CREATED:20221206T005032Z
LAST-MODIFIED:20221206T005032Z
UID:6572-1677524400-1677531600@blizzardmn.com
SUMMARY:Apprentice Instructors - Pizza Party & Exam Results
DESCRIPTION:It’s time for celebration! Pizza! Free ski/ride with friends! And find our your results from the Rainbow Exam!
URL:https://blizzardmn.com/event/apprentice-instructors-pizza-party-exam-results/
LOCATION:Hyland Hills Ski Area\, 8800 Chalet Road\, Bloomington\, MN\, 55438
ATTACH;FMTTYPE=image/png:https://blizzardmn.com/wp-content/uploads/superkyds.png
END:VEVENT
END:VCALENDAR