BEGIN:VCALENDAR
VERSION:2.0
PRODID:-//Blizzard Ski and Snowboard School - ECPv6.15.20//NONSGML v1.0//EN
CALSCALE:GREGORIAN
METHOD:PUBLISH
X-ORIGINAL-URL:https://blizzardmn.com
X-WR-CALDESC:Events for Blizzard Ski and Snowboard School
REFRESH-INTERVAL;VALUE=DURATION:PT1H
X-Robots-Tag:noindex
X-PUBLISHED-TTL:PT1H
BEGIN:VTIMEZONE
TZID:America/Menominee
BEGIN:DAYLIGHT
TZOFFSETFROM:-0600
TZOFFSETTO:-0500
TZNAME:CDT
DTSTART:20220313T080000
END:DAYLIGHT
BEGIN:STANDARD
TZOFFSETFROM:-0500
TZOFFSETTO:-0600
TZNAME:CST
DTSTART:20221106T070000
END:STANDARD
BEGIN:DAYLIGHT
TZOFFSETFROM:-0600
TZOFFSETTO:-0500
TZNAME:CDT
DTSTART:20230312T080000
END:DAYLIGHT
BEGIN:STANDARD
TZOFFSETFROM:-0500
TZOFFSETTO:-0600
TZNAME:CST
DTSTART:20231105T070000
END:STANDARD
BEGIN:DAYLIGHT
TZOFFSETFROM:-0600
TZOFFSETTO:-0500
TZNAME:CDT
DTSTART:20240310T080000
END:DAYLIGHT
BEGIN:STANDARD
TZOFFSETFROM:-0500
TZOFFSETTO:-0600
TZNAME:CST
DTSTART:20241103T070000
END:STANDARD
END:VTIMEZONE
BEGIN:VEVENT
DTSTART;TZID=America/Menominee:20230109T190000
DTEND;TZID=America/Menominee:20230109T210000
DTSTAMP:20260422T221038
CREATED:20221206T002139Z
LAST-MODIFIED:20221206T002139Z
UID:6557-1673290800-1673298000@blizzardmn.com
SUMMARY:Apprenctice Instructors - Dryland Clinic #3
DESCRIPTION:Content will be provided by your Program Directors\, Tim\, Ty & Sydney.  Check your course syllabus and homework assignments!
URL:https://blizzardmn.com/event/apprenctice-instructors-dryland-clinic-3/
LOCATION:Hopkins Eisenhower Community Center\, 1001 Highway 7\, Hopkins\, MN\, 55305
ATTACH;FMTTYPE=image/png:https://blizzardmn.com/wp-content/uploads/superkyds.png
END:VEVENT
BEGIN:VEVENT
DTSTART;TZID=America/Menominee:20230123T190000
DTEND;TZID=America/Menominee:20230123T210000
DTSTAMP:20260422T221038
CREATED:20221206T002025Z
LAST-MODIFIED:20221206T002025Z
UID:6555-1674500400-1674507600@blizzardmn.com
SUMMARY:Apprentice Instructors - On-Snow Clinic #2
DESCRIPTION:Grab your gear and head to the slopes for teaching and technical skills. Content will be provided by your Program Directors\, Tim\, Ty & Sydney.  Check your course syllabus and homework assignments!
URL:https://blizzardmn.com/event/apprentice-instructors-on-snow-clinic-2/
LOCATION:Hyland Hills Ski Area\, 8800 Chalet Road\, Bloomington\, MN\, 55438
ATTACH;FMTTYPE=image/png:https://blizzardmn.com/wp-content/uploads/superkyds.png
END:VEVENT
BEGIN:VEVENT
DTSTART;TZID=America/Menominee:20230130T190000
DTEND;TZID=America/Menominee:20230130T210000
DTSTAMP:20260422T221038
CREATED:20221206T002347Z
LAST-MODIFIED:20221206T002454Z
UID:6559-1675105200-1675112400@blizzardmn.com
SUMMARY:Apprentice Instructors - On-Snow Clinic #3
DESCRIPTION:Grab your gear and head to the slopes for teaching and technical skills. Content will be provided by your Program Directors\, Tim\, Ty & Sydney.  Check your course syllabus and homework assignments!
URL:https://blizzardmn.com/event/apprentice-instructors-on-snow-clinic-3/
LOCATION:Hyland Hills Ski Area\, 8800 Chalet Road\, Bloomington\, MN\, 55438
ATTACH;FMTTYPE=image/png:https://blizzardmn.com/wp-content/uploads/superkyds.png
END:VEVENT
END:VCALENDAR