BEGIN:VCALENDAR
VERSION:2.0
PRODID:-//Blizzard Ski and Snowboard School - ECPv6.15.20//NONSGML v1.0//EN
CALSCALE:GREGORIAN
METHOD:PUBLISH
X-ORIGINAL-URL:https://blizzardmn.com
X-WR-CALDESC:Events for Blizzard Ski and Snowboard School
REFRESH-INTERVAL;VALUE=DURATION:PT1H
X-Robots-Tag:noindex
X-PUBLISHED-TTL:PT1H
BEGIN:VTIMEZONE
TZID:America/Menominee
BEGIN:DAYLIGHT
TZOFFSETFROM:-0600
TZOFFSETTO:-0500
TZNAME:CDT
DTSTART:20250309T080000
END:DAYLIGHT
BEGIN:STANDARD
TZOFFSETFROM:-0500
TZOFFSETTO:-0600
TZNAME:CST
DTSTART:20251102T070000
END:STANDARD
BEGIN:DAYLIGHT
TZOFFSETFROM:-0600
TZOFFSETTO:-0500
TZNAME:CDT
DTSTART:20260308T080000
END:DAYLIGHT
BEGIN:STANDARD
TZOFFSETFROM:-0500
TZOFFSETTO:-0600
TZNAME:CST
DTSTART:20261101T070000
END:STANDARD
BEGIN:DAYLIGHT
TZOFFSETFROM:-0600
TZOFFSETTO:-0500
TZNAME:CDT
DTSTART:20270314T080000
END:DAYLIGHT
BEGIN:STANDARD
TZOFFSETFROM:-0500
TZOFFSETTO:-0600
TZNAME:CST
DTSTART:20271107T070000
END:STANDARD
END:VTIMEZONE
BEGIN:VEVENT
DTSTART;TZID=America/Menominee:20260208T080000
DTEND;TZID=America/Menominee:20260208T170000
DTSTAMP:20260421T193918
CREATED:20250825T163438Z
LAST-MODIFIED:20260206T061822Z
UID:8550-1770537600-1770570000@blizzardmn.com
SUMMARY:Sunday Blizzard Trip #8 @ Powder Ridge
DESCRIPTION:Parent Breakthrough Program: It’s the final week for our Parent Breakthrough Program! \nClassic Pop-up Groups continue this week! Find this week’s topic\, times and locations on the lesson schedule posted online later this week. It’s another exciting way to have fun with your Blizzard friends! \nLessons & Buses\n\nLesson Schedule\nBus Routes\nSpecific bus stop locations\nInviting a guest?\n\n\n\n\nBus Stop\nDepart\nReturn\n\n\nChanhassen\n8:15 AM\n5:15 PM\n\n\nChaska\n7:45 AM\n5:45 PM\n\n\nEdina – City Hall\n8:15 AM\n5:15 PM\n\n\nGolden Valley\n8:15 AM\n5:15 PM\n\n\nHighland Park\n7:45 AM\n5:45 PM\n\n\nLong Lake/Orono\n8:15 AM\n5:15 PM\n\n\nMaple Grove\n8:30 AM\n5:00 PM\n\n\nMinneapolis – Justice Page\n8:00 AM\n5:30 PM\n\n\nMinnetonka – 7 Hi\n8:15 AM\n5:15 PM\n\n\nMinnetonka – Ridgedale\n8:00 AM\n5:30 PM\n\n\nPlymouth West\n8:30 AM\n5:00 PM\n\n\nShoreview\n8:00 AM\n5:30 PM\n\n\nSt. Louis Park\n8:00 AM\n5:30 PM
URL:https://blizzardmn.com/event/sunday-blizzard-trip-8-powder-ridge-2/
LOCATION:Powder Ridge\, 15015 93rd Ave\, Kimball\, MN\, 55353
ATTACH;FMTTYPE=image/png:https://blizzardmn.com/wp-content/uploads/Powder-Ridge002.png
END:VEVENT
END:VCALENDAR