BEGIN:VCALENDAR
VERSION:2.0
PRODID:-//Blizzard Ski and Snowboard School - ECPv6.15.20//NONSGML v1.0//EN
CALSCALE:GREGORIAN
METHOD:PUBLISH
X-WR-CALNAME:Blizzard Ski and Snowboard School
X-ORIGINAL-URL:https://blizzardmn.com
X-WR-CALDESC:Events for Blizzard Ski and Snowboard School
REFRESH-INTERVAL;VALUE=DURATION:PT1H
X-Robots-Tag:noindex
X-PUBLISHED-TTL:PT1H
BEGIN:VTIMEZONE
TZID:America/Menominee
BEGIN:DAYLIGHT
TZOFFSETFROM:-0600
TZOFFSETTO:-0500
TZNAME:CDT
DTSTART:20240310T080000
END:DAYLIGHT
BEGIN:STANDARD
TZOFFSETFROM:-0500
TZOFFSETTO:-0600
TZNAME:CST
DTSTART:20241103T070000
END:STANDARD
BEGIN:DAYLIGHT
TZOFFSETFROM:-0600
TZOFFSETTO:-0500
TZNAME:CDT
DTSTART:20250309T080000
END:DAYLIGHT
BEGIN:STANDARD
TZOFFSETFROM:-0500
TZOFFSETTO:-0600
TZNAME:CST
DTSTART:20251102T070000
END:STANDARD
BEGIN:DAYLIGHT
TZOFFSETFROM:-0600
TZOFFSETTO:-0500
TZNAME:CDT
DTSTART:20260308T080000
END:DAYLIGHT
BEGIN:STANDARD
TZOFFSETFROM:-0500
TZOFFSETTO:-0600
TZNAME:CST
DTSTART:20261101T070000
END:STANDARD
END:VTIMEZONE
BEGIN:VEVENT
DTSTART;TZID=America/Menominee:20251220T080000
DTEND;TZID=America/Menominee:20251220T170000
DTSTAMP:20260421T182512
CREATED:20250825T161423Z
LAST-MODIFIED:20251219T041131Z
UID:8524-1766217600-1766250000@blizzardmn.com
SUMMARY:Saturday Blizzard Trip #3 @ Welch Village
DESCRIPTION:It’s the last Saturday trip before Winter Break! Don’t miss the fun closing out the year with your Blizzard friends! \nImportant: \n\nWe are heading south this week\, so your bus times may change from the last two weeks!\nWelch Village is cashless. Only credit or gift cards are accepted for food and other purchases. Cash is not accepted at Welch Village. See their website for details.\nBoot bags are not allowed in the chalet. Only your Blizzard string backback or a regular lunch bag and drink are allowed. All other bags must be left on the bus for the day. Please pack accordingly.\n\nTeen Sampler Program Ends\nThis is the last trip for members in our Teen Sampler Program. We hope you had fun! To continue having a blast with Blizzard each week\, contact the office to register for the rest of the season! \nNew Classic Member Orientation\nNew to Blizzard this season? Graduated from SuperKyds to Classic or Team Blizzard? Have your child in grades 5-12 join our Classic Orientation group during the first few weeks and learn how Blizzard works for the big kids! (SuperMites and SuperKyds should stay with their group.) Our staff will show you when and where to go and you’ll meet other Blizzard members. No registration is required\, just tell the staff on the bus and we’ll take it from there. It’s a great way to get started with Blizzard! \nLessons & Buses\n\nLesson Schedule – New format!\nBus Routes\nSpecific bus stop locations\nInviting a guest?\n\n\n\n\nBus Stop\nDepart\nReturn\n\n\nChanhassen\n8:30 AM\n5:00 PM\n\n\nChaska\n8:15 AM\n5:15 PM\n\n\nEdina – City Hall\n8:15 AM\n5:15 PM\n\n\nGolden Valley\n8:00 AM\n5:30 PM\n\n\nHighland Park\n8:30 AM\n5:00 PM\n\n\nLong Lake/Orono\n8:15 AM\n5:15 PM\n\n\nMaple Grove\n8:00 AM\n5:30 PM\n\n\nMinneapolis – Justice Page\n8:30 AM\n5:00 PM\n\n\nMinnetonka – 7 Hi\n8:15 AM\n5:15 PM\n\n\nMinnetonka – Ridgedale\n8:15 AM\n5:15 PM\n\n\nMound/Spring Park\n7:45 AM\n5:45 PM\n\n\nOtsego\n7:45 AM\n5:45 PM\n\n\nPlymouth West\n8:15 AM\n5:15 PM\n\n\nShoreview\n8:30 AM\n5:00 PM\n\n\nSt. Louis Park\n8:30 AM\n5:00 PM
URL:https://blizzardmn.com/event/saturday-blizzard-trip-3-welch-village-2/
LOCATION:Welch Village\, 26685 County Road 7 Blvd\, Welch\, MN\, 55089
ATTACH;FMTTYPE=image/png:https://blizzardmn.com/wp-content/uploads/Welch-Village003.png
END:VEVENT
END:VCALENDAR