BEGIN:VCALENDAR
VERSION:2.0
PRODID:-//Blizzard Ski and Snowboard School - ECPv6.15.20//NONSGML v1.0//EN
CALSCALE:GREGORIAN
METHOD:PUBLISH
X-ORIGINAL-URL:https://blizzardmn.com
X-WR-CALDESC:Events for Blizzard Ski and Snowboard School
REFRESH-INTERVAL;VALUE=DURATION:PT1H
X-Robots-Tag:noindex
X-PUBLISHED-TTL:PT1H
BEGIN:VTIMEZONE
TZID:America/Menominee
BEGIN:DAYLIGHT
TZOFFSETFROM:-0600
TZOFFSETTO:-0500
TZNAME:CDT
DTSTART:20240310T080000
END:DAYLIGHT
BEGIN:STANDARD
TZOFFSETFROM:-0500
TZOFFSETTO:-0600
TZNAME:CST
DTSTART:20241103T070000
END:STANDARD
BEGIN:DAYLIGHT
TZOFFSETFROM:-0600
TZOFFSETTO:-0500
TZNAME:CDT
DTSTART:20250309T080000
END:DAYLIGHT
BEGIN:STANDARD
TZOFFSETFROM:-0500
TZOFFSETTO:-0600
TZNAME:CST
DTSTART:20251102T070000
END:STANDARD
BEGIN:DAYLIGHT
TZOFFSETFROM:-0600
TZOFFSETTO:-0500
TZNAME:CDT
DTSTART:20260308T080000
END:DAYLIGHT
BEGIN:STANDARD
TZOFFSETFROM:-0500
TZOFFSETTO:-0600
TZNAME:CST
DTSTART:20261101T070000
END:STANDARD
END:VTIMEZONE
BEGIN:VEVENT
DTSTART;TZID=America/Menominee:20251014T170000
DTEND;TZID=America/Menominee:20251014T190000
DTSTAMP:20260421T142040
CREATED:20250828T191823Z
LAST-MODIFIED:20250926T203701Z
UID:8681-1760461200-1760468400@blizzardmn.com
SUMMARY:#seeyouintheshops @ Gear West
DESCRIPTION:Got questions about Blizzard Ski & Snowboard School? Want to meet staff? Wondering how the bus works? What are weekly trip fees? Ready to get equipment but don’t know what your child needs? \nBring your friends and come visit us along with our retail partners to learn more about Blizzard Ski & Snowboard School. You can go to our FAQ page\, but it’s more fun to see us in-person!
URL:https://blizzardmn.com/event/preseason-gear-west/
LOCATION:Gear West
ATTACH;FMTTYPE=image/jpeg:https://blizzardmn.com/wp-content/uploads/gearwest-alpine-logo2-1.jpg
END:VEVENT
END:VCALENDAR