BEGIN:VCALENDAR
VERSION:2.0
PRODID:-//Blizzard Ski and Snowboard School - ECPv6.15.20//NONSGML v1.0//EN
CALSCALE:GREGORIAN
METHOD:PUBLISH
X-WR-CALNAME:Blizzard Ski and Snowboard School
X-ORIGINAL-URL:https://blizzardmn.com
X-WR-CALDESC:Events for Blizzard Ski and Snowboard School
REFRESH-INTERVAL;VALUE=DURATION:PT1H
X-Robots-Tag:noindex
X-PUBLISHED-TTL:PT1H
BEGIN:VTIMEZONE
TZID:America/Menominee
BEGIN:DAYLIGHT
TZOFFSETFROM:-0600
TZOFFSETTO:-0500
TZNAME:CDT
DTSTART:20240310T080000
END:DAYLIGHT
BEGIN:STANDARD
TZOFFSETFROM:-0500
TZOFFSETTO:-0600
TZNAME:CST
DTSTART:20241103T070000
END:STANDARD
BEGIN:DAYLIGHT
TZOFFSETFROM:-0600
TZOFFSETTO:-0500
TZNAME:CDT
DTSTART:20250309T080000
END:DAYLIGHT
BEGIN:STANDARD
TZOFFSETFROM:-0500
TZOFFSETTO:-0600
TZNAME:CST
DTSTART:20251102T070000
END:STANDARD
BEGIN:DAYLIGHT
TZOFFSETFROM:-0600
TZOFFSETTO:-0500
TZNAME:CDT
DTSTART:20260308T080000
END:DAYLIGHT
BEGIN:STANDARD
TZOFFSETFROM:-0500
TZOFFSETTO:-0600
TZNAME:CST
DTSTART:20261101T070000
END:STANDARD
END:VTIMEZONE
BEGIN:VEVENT
DTSTART;VALUE=DATE:20250308
DTEND;VALUE=DATE:20250309
DTSTAMP:20260421T082634
CREATED:20240903T182134Z
LAST-MODIFIED:20250307T030249Z
UID:7631-1741392000-1741478399@blizzardmn.com
SUMMARY:Bonus Trip #3: Teen & Family Trip @ Giants Ridge
DESCRIPTION:3/6/2025 UPDATE: Both buses are full. You must be pre-registered to board a bus for this Bonus Trip. \nStill haven’t had enough time on the snow? Join Blizzard’s annual trip up north to Giants Ridge in Biwabik\, MN!  \nLimited to 100 members\, you’ll travel in style and comfort on luxury motor coaches. Enjoy some of the longest runs and best slopes in Minnesota! Registration opens in mid-February and fills up fast! \nThis bonus trip is for members in our Classic\, Team Blizzard and Apprentice Instructor programs on Saturday and Sunday. Younger members are welcome with parent/guardian supervision all day and preregistration. \nThere are no lessons on this trip. It is a full a day of free-skiing/riding on the slopes. \nWant to bring a friend or family member? All Guests must be preregistered. \nInvite a Guest \nBus Stops\nBus stops for this bonus trip are limited to ONLY Chanhassen\, Edina – City Hall\, Ridgedale and Shoreview. Please check the website for the exact location if you are not riding from your usual bus stop! You may drive instead\, but you must arrive by 10:30am to get discounted tickets from the Blizzard Table. \nDue to the higher cost of using motor coaches\, the no-show fee for this event is $55. \n  \nBus routes: PDF \n  \n\n\n\nBus Stop\nDepart\nReturn\n\n\nChanhassen\n6:15 AM\n7:45 PM\n\n\nEdina – City Hall\n6:45 AM\n7:15 PM\n\n\nMinnetonka – Ridgedale\n6:30 AM\n7:30 PM\n\n\nShoreview\n7:00 AM\n7:00 PM\n\n\n\n 
URL:https://blizzardmn.com/event/bonus-trip-3-teen-family-trip-giants-ridge/
LOCATION:Giant’s Ridge\, 6325 Wynne Creek Dr\, Biwabik\, MN\, 55708
ATTACH;FMTTYPE=image/png:https://blizzardmn.com/wp-content/uploads/giantsridge-logo-1.png
END:VEVENT
END:VCALENDAR