BEGIN:VCALENDAR
VERSION:2.0
PRODID:-//Blizzard Ski and Snowboard School - ECPv6.15.20//NONSGML v1.0//EN
CALSCALE:GREGORIAN
METHOD:PUBLISH
X-WR-CALNAME:Blizzard Ski and Snowboard School
X-ORIGINAL-URL:https://blizzardmn.com
X-WR-CALDESC:Events for Blizzard Ski and Snowboard School
REFRESH-INTERVAL;VALUE=DURATION:PT1H
X-Robots-Tag:noindex
X-PUBLISHED-TTL:PT1H
BEGIN:VTIMEZONE
TZID:America/Menominee
BEGIN:DAYLIGHT
TZOFFSETFROM:-0600
TZOFFSETTO:-0500
TZNAME:CDT
DTSTART:20240310T080000
END:DAYLIGHT
BEGIN:STANDARD
TZOFFSETFROM:-0500
TZOFFSETTO:-0600
TZNAME:CST
DTSTART:20241103T070000
END:STANDARD
BEGIN:DAYLIGHT
TZOFFSETFROM:-0600
TZOFFSETTO:-0500
TZNAME:CDT
DTSTART:20250309T080000
END:DAYLIGHT
BEGIN:STANDARD
TZOFFSETFROM:-0500
TZOFFSETTO:-0600
TZNAME:CST
DTSTART:20251102T070000
END:STANDARD
BEGIN:DAYLIGHT
TZOFFSETFROM:-0600
TZOFFSETTO:-0500
TZNAME:CDT
DTSTART:20260308T080000
END:DAYLIGHT
BEGIN:STANDARD
TZOFFSETFROM:-0500
TZOFFSETTO:-0600
TZNAME:CST
DTSTART:20261101T070000
END:STANDARD
END:VTIMEZONE
BEGIN:VEVENT
DTSTART;VALUE=DATE:20250126
DTEND;VALUE=DATE:20250127
DTSTAMP:20260421T054956
CREATED:20240903T175314Z
LAST-MODIFIED:20250124T045133Z
UID:7608-1737849600-1737935999@blizzardmn.com
SUMMARY:Sunday Blizzard Trip #6 @ Mount Kato
DESCRIPTION:It’s time to travel south to Mankato! Watch for the Jolly Green Giant and Little Sprout on the left just before Le Sueur! \nNew! Pop-up groups!\nPop-up groups are for all Classic members (including Team Blizzard and Apprentice Instructors) and meet at the orange lesson cones at 10:00 AM\, 12:15 PM and/or 2:00 PM. Check out this week’s lesson schedule to find out when and where to meet. No extra cost! No sign-up required! Just more FUN! \nThis week’s topic: RACING! Learn how Mikaele Shiffrin & Ross Rebagliati won gold in the race course! Attend two racing pop-up groups to qualify for the Fun Day NASTAR race on March 2! (Must be in color level Red or above. Racing will be offered again in a few weeks.) \nLessons & Buses\n\nLesson Schedule\nBus Routes\nSpecific bus stop locations\nInviting a guest?\n\n\n\n\nBus Stop\nDepart\nReturn\n\n\nChanhassen\n8:15 AM\n5:15 PM\n\n\nChaska\n8:30 AM\n5:00 PM\n\n\nEdina – City Hall\n8:00 AM\n5:30 PM\n\n\nGolden Valley\n8:15 AM\n5:15 PM\n\n\nLong Lake/Orono\n8:00 AM\n5:30 PM\n\n\nMaple Grove\n8:00 AM\n5:30 PM\n\n\nMendota Heights\n7:45 AM\n5:45 PM\n\n\nMinneapolis – Justice Page\n8:00 AM\n5:30 PM\n\n\nMinnetonka – 7 Hi\n8:00 AM\n5:30 PM\n\n\nMinnetonka – Ridgedale\n8:15 AM\n5:15 PM\n\n\nPlymouth West\n8:00 AM\n5:30 PM\n\n\nShoreview\n7:30 AM\n6:00 PM\n\n\nSt. Louis Park\n8:15 AM\n5:15 PM
URL:https://blizzardmn.com/event/sunday-blizzard-trip-6-mount-kato/
LOCATION:Mount Kato\, 20461 Old Highway 66\, Mankato\, MN\, 56001
ATTACH;FMTTYPE=image/jpeg:https://blizzardmn.com/wp-content/uploads/Mount-Kato003.jpg
END:VEVENT
END:VCALENDAR