BEGIN:VCALENDAR
VERSION:2.0
PRODID:-//Blizzard Ski and Snowboard School - ECPv6.15.20//NONSGML v1.0//EN
CALSCALE:GREGORIAN
METHOD:PUBLISH
X-WR-CALNAME:Blizzard Ski and Snowboard School
X-ORIGINAL-URL:https://blizzardmn.com
X-WR-CALDESC:Events for Blizzard Ski and Snowboard School
REFRESH-INTERVAL;VALUE=DURATION:PT1H
X-Robots-Tag:noindex
X-PUBLISHED-TTL:PT1H
BEGIN:VTIMEZONE
TZID:America/Menominee
BEGIN:DAYLIGHT
TZOFFSETFROM:-0600
TZOFFSETTO:-0500
TZNAME:CDT
DTSTART:20230312T080000
END:DAYLIGHT
BEGIN:STANDARD
TZOFFSETFROM:-0500
TZOFFSETTO:-0600
TZNAME:CST
DTSTART:20231105T070000
END:STANDARD
BEGIN:DAYLIGHT
TZOFFSETFROM:-0600
TZOFFSETTO:-0500
TZNAME:CDT
DTSTART:20240310T080000
END:DAYLIGHT
BEGIN:STANDARD
TZOFFSETFROM:-0500
TZOFFSETTO:-0600
TZNAME:CST
DTSTART:20241103T070000
END:STANDARD
BEGIN:DAYLIGHT
TZOFFSETFROM:-0600
TZOFFSETTO:-0500
TZNAME:CDT
DTSTART:20250309T080000
END:DAYLIGHT
BEGIN:STANDARD
TZOFFSETFROM:-0500
TZOFFSETTO:-0600
TZNAME:CST
DTSTART:20251102T070000
END:STANDARD
END:VTIMEZONE
BEGIN:VEVENT
DTSTART;TZID=America/Menominee:20241114T190000
DTEND;TZID=America/Menominee:20241114T203000
DTSTAMP:20260421T033803
CREATED:20240831T005105Z
LAST-MODIFIED:20241118T200254Z
UID:7565-1731610800-1731616200@blizzardmn.com
SUMMARY:Blizzard Family Information Session (Zoom)
DESCRIPTION:  \nWe are super excited for this season and can’t wait to be on the slopes with your children! Owners Jeff and Jen Lewin will provide an overview of the typical Blizzard day — from getting on the morning bus to arriving at the area\, how lessons are provided\, the lunch schedule (always important!) and the return trip home on the afternoon bus. All your questions about equipment\, costs\, program ratios\, advancement\, trip locations and more will be answered! \n  \nVIEW RECORDING HERE \n  \nPast parent feedback: \n“Thanks! This information session is SUPER helpful! Thanks for providing it!” – Jill P.\, Blizzard Parent \n“Excellent info session – thank you!”  – Anji J.\, Blizzard Parent \n 
URL:https://blizzardmn.com/event/blizzard-family-information-session-zoom/
LOCATION:MN
ATTACH;FMTTYPE=image/jpeg:https://blizzardmn.com/wp-content/uploads/SuperMites-5-scaled-e1665511547454.jpg
END:VEVENT
END:VCALENDAR