BEGIN:VCALENDAR
VERSION:2.0
PRODID:-//Blizzard Ski and Snowboard School - ECPv6.15.20//NONSGML v1.0//EN
CALSCALE:GREGORIAN
METHOD:PUBLISH
X-WR-CALNAME:Blizzard Ski and Snowboard School
X-ORIGINAL-URL:https://blizzardmn.com
X-WR-CALDESC:Events for Blizzard Ski and Snowboard School
REFRESH-INTERVAL;VALUE=DURATION:PT1H
X-Robots-Tag:noindex
X-PUBLISHED-TTL:PT1H
BEGIN:VTIMEZONE
TZID:America/Menominee
BEGIN:DAYLIGHT
TZOFFSETFROM:-0600
TZOFFSETTO:-0500
TZNAME:CDT
DTSTART:20230312T080000
END:DAYLIGHT
BEGIN:STANDARD
TZOFFSETFROM:-0500
TZOFFSETTO:-0600
TZNAME:CST
DTSTART:20231105T070000
END:STANDARD
BEGIN:DAYLIGHT
TZOFFSETFROM:-0600
TZOFFSETTO:-0500
TZNAME:CDT
DTSTART:20240310T080000
END:DAYLIGHT
BEGIN:STANDARD
TZOFFSETFROM:-0500
TZOFFSETTO:-0600
TZNAME:CST
DTSTART:20241103T070000
END:STANDARD
BEGIN:DAYLIGHT
TZOFFSETFROM:-0600
TZOFFSETTO:-0500
TZNAME:CDT
DTSTART:20250309T080000
END:DAYLIGHT
BEGIN:STANDARD
TZOFFSETFROM:-0500
TZOFFSETTO:-0600
TZNAME:CST
DTSTART:20251102T070000
END:STANDARD
END:VTIMEZONE
BEGIN:VEVENT
DTSTART;VALUE=DATE:20241109
DTEND;VALUE=DATE:20241111
DTSTAMP:20260421T032046
CREATED:20240906T004510Z
LAST-MODIFIED:20241104T214228Z
UID:7688-1731110400-1731283199@blizzardmn.com
SUMMARY:Blizzard Member Days
DESCRIPTION:We are excited to once again be holding our Blizzard Member Days on November 9-10 with our retail partners in the Twin Cities. Their expertise and inventory will set you up for a successful season on the slopes! \nBlizzard staff will be available on Saturday & Sunday to answer questions\, and you will be able to pick up your membership packet with registration materials and day of exclusive offerings. \nGear West – check out their website for store hours \nFor Member Days: \n\n15% discount off for hard & soft goods\, Alpine only\, Blizzard Members and their immediate family\nEvaluation of existing equipment to ensure proper fit for upcoming season.\nMeet the Blizzard staff: November 9 from 10am-1pm and November 10 from 2-4pm.\n\nHi Tempo – check out their website for store hours \nFor Member Days: \n\n20% discount on non-sale price equipment and clothing (not on lease equipment)\nMeet the Blizzard staff: November 9 from 2pm-5pm and November 10 from 12-2pm.\n\nHoigaard’s – check out their website for store hours \nFor Member Days: \n\n15% discount for Blizzard members during the 2024-25 season\n15% discount for Blizzard members + immediate family on Nov 9-10\nMeet the Blizzard staff: November 9 from 2pm-5pm and November 10 from 11-1pm.\n\nJoe’s Sporting Goods – check out their website for store hours \nFor Member Days: \n\n20% discount for members during the 2024-25 season (discount applies to ski accessories and ski clothing not skis/board\, bindings\, or boots these items are sale priced as marked)\n20% discount for members & family for November 9-10 (discount applies to ski accessories and ski clothing not skis/board\, bindings\, or boots these items are sale priced as marked)\n$10 off all tunes & mounts\nAsk the staff about the discount coupon for Blizzard only deals\nSeason long junior ski lease packages\, all sizes available\, most are NEW\nMeet the Blizzard staff: November 9 from 10am-1pm and November 10 from 3-5pm.\n\nPierce Skate & Ski – check out their website for store hours \nFor Member Days: \n\n15% discount is extended to Blizzard Members and their immediate family\nSki tuning is at our Race Rate of $54.95 which is a $10 savings\nTune-up with a binding check it is $69.95\nBinding Safety check(s) run $30 but when tied to a ski tune up (see above) they are only $15\, which is a $15 savings\nBoot fitting and/or equipment assessment\, appointments are highly recommended: (952-884-1990)\nMeet the Blizzard staff: November 9 from 2pm-5pm and November 10 from 12-2pm.\n\nTonka Cycle & Ski – check out their website for store hours \nNEW LOCATION: 416 11th Ave S. \nFor Member Days: \n\n25% off all current-season items\nAdditional 10% off clearance items\nTonka mechanics available for demos and product/service discussions\nOne-time 10% discount on bicycle and summer items upon season-long rental return\, starting March 1st\nSki & snowboard rentals begin October 1st\nMeet the Blizzard staff: November 9 from 10am-1pm and November 10 from 3-5pm.\n\nAdditional announcements: \n\nWe will be accepting applications for our Tonka Ambassador Program until October 20th. Please visit our website for more information.\n\n 
URL:https://blizzardmn.com/event/blizzard-member-days-2/
LOCATION:MN
ATTACH;FMTTYPE=image/jpeg:https://blizzardmn.com/wp-content/uploads/member-days-scaled-e1665523265413.jpg
END:VEVENT
END:VCALENDAR