BEGIN:VCALENDAR
VERSION:2.0
PRODID:-//Blizzard Ski and Snowboard School - ECPv6.15.20//NONSGML v1.0//EN
CALSCALE:GREGORIAN
METHOD:PUBLISH
X-WR-CALNAME:Blizzard Ski and Snowboard School
X-ORIGINAL-URL:https://blizzardmn.com
X-WR-CALDESC:Events for Blizzard Ski and Snowboard School
REFRESH-INTERVAL;VALUE=DURATION:PT1H
X-Robots-Tag:noindex
X-PUBLISHED-TTL:PT1H
BEGIN:VTIMEZONE
TZID:America/Menominee
BEGIN:DAYLIGHT
TZOFFSETFROM:-0600
TZOFFSETTO:-0500
TZNAME:CDT
DTSTART:20220313T080000
END:DAYLIGHT
BEGIN:STANDARD
TZOFFSETFROM:-0500
TZOFFSETTO:-0600
TZNAME:CST
DTSTART:20221106T070000
END:STANDARD
BEGIN:DAYLIGHT
TZOFFSETFROM:-0600
TZOFFSETTO:-0500
TZNAME:CDT
DTSTART:20230312T080000
END:DAYLIGHT
BEGIN:STANDARD
TZOFFSETFROM:-0500
TZOFFSETTO:-0600
TZNAME:CST
DTSTART:20231105T070000
END:STANDARD
BEGIN:DAYLIGHT
TZOFFSETFROM:-0600
TZOFFSETTO:-0500
TZNAME:CDT
DTSTART:20240310T080000
END:DAYLIGHT
BEGIN:STANDARD
TZOFFSETFROM:-0500
TZOFFSETTO:-0600
TZNAME:CST
DTSTART:20241103T070000
END:STANDARD
END:VTIMEZONE
BEGIN:VEVENT
DTSTART;VALUE=DATE:20231014
DTEND;VALUE=DATE:20231016
DTSTAMP:20260422T120543
CREATED:20221011T180630Z
LAST-MODIFIED:20231002T173846Z
UID:6200-1697241600-1697414399@blizzardmn.com
SUMMARY:Blizzard Member Days
DESCRIPTION:We are excited to once again be holding our Blizzard Member Days on October 14-15 with our retail partners in the Twin Cities. Their expertise and inventory will set you up for a successful season on the slopes! And\, be sure to say “hi” to Blizzard Director staff! 🙂 \n This weekend is your opportunity to ensure gear is slope-ready by the first Blizzard trip. \nGear West\n\n15% discount off for hard & soft goods\, Alpine only\, for the 2023-24 season.\n15% discount off for hard & soft goods\, Alpine only\, Blizzard Members and their immediate family for October 14-15\nEvaluation of existing equipment to ensure proper fit for upcoming season.\nMeet Blizzard Staff: October 14 from 10am – noon.\n\nHi Tempo\n\n20% discount on non-sale price equipment and clothing\, not on lease equipment.\nMeet Blizzard Staff: October 14 from 10am – noon.\n\nHoigaard’s\n\n15% discount for Blizzard members during the 2023-24 season\n15% discount for Blizzard members + immediate family October 14-15\nMeet Blizzard Staff: October 14 from 4 – 6pm.\n\nJoe’s Sporting Goods\n\n20% discount for Blizzard members during the 2023-24 season\n20% discount for Blizzard members + immediate family October 14-15\n$10 off all tunes and mounts\nAsk the staff about the discount coupon for Blizzard only deals.\nSeason long junior ski lease packages\, all sizes available\, most are NEW.\nMeet Blizzard Staff: October 14 from 10am – noon.\n\nPierce Skate & Ski\n\n15% discount is extended to Blizzard Members and their immediate family.\nSki tuning is at our Race Rate of $49.95 which is a $10 savings.  Tune-up with a binding check it is $64.95.\nBinding Safety check(s) run $30 but when tied to a ski tune up (see above) they are only $15\, which is a $15 savings.\nBoot fitting and/or equipment assessment\, appointments are highly recommended\, call 952-884-1990.\nMeet Blizzard Staff: October 14 from 1 – 3pm.\n\nTonka Cycle & Ski\n\n20% discount for Blizzard members during the 2023-24 season\n20% discount on stock inventory for Blizzard members + immediate family October 14-15 (no discounts on services)\nJunior sized season-long ski or snowboard rental packages\nMeet Blizzard Staff: October 14 from 1 – 3pm\n\nSun & Slope\n\n15% discount for Blizzard members during the 2023-24 season\n15% discount for Blizzard members + immediate family October 14-15\nMeet Blizzard Staff: October 14 from 1 – 3pm\n\nstore hours & locations
URL:https://blizzardmn.com/event/blizzard-member-days/
LOCATION:MN
ATTACH;FMTTYPE=image/jpeg:https://blizzardmn.com/wp-content/uploads/member-days-scaled-e1665523265413.jpg
END:VEVENT
BEGIN:VEVENT
DTSTART;TZID=America/Menominee:20231014T120000
DTEND;TZID=America/Menominee:20231014T200000
DTSTAMP:20260422T120543
CREATED:20221003T191103Z
LAST-MODIFIED:20230925T092050Z
UID:6165-1697284800-1697313600@blizzardmn.com
SUMMARY:SE MN Ski Patrol Swap
DESCRIPTION:2023 Ski Swap Flier
URL:https://blizzardmn.com/event/se-mn-ski-patrol-swap/
LOCATION:MN
ATTACH;FMTTYPE=image/jpeg:https://blizzardmn.com/wp-content/uploads/Gear-1-e1661359668202.jpg
END:VEVENT
END:VCALENDAR