BEGIN:VCALENDAR
VERSION:2.0
PRODID:-//Blizzard Ski and Snowboard School - ECPv6.15.20//NONSGML v1.0//EN
CALSCALE:GREGORIAN
METHOD:PUBLISH
X-ORIGINAL-URL:https://blizzardmn.com
X-WR-CALDESC:Events for Blizzard Ski and Snowboard School
REFRESH-INTERVAL;VALUE=DURATION:PT1H
X-Robots-Tag:noindex
X-PUBLISHED-TTL:PT1H
BEGIN:VTIMEZONE
TZID:America/Menominee
BEGIN:DAYLIGHT
TZOFFSETFROM:-0600
TZOFFSETTO:-0500
TZNAME:CDT
DTSTART:20220313T080000
END:DAYLIGHT
BEGIN:STANDARD
TZOFFSETFROM:-0500
TZOFFSETTO:-0600
TZNAME:CST
DTSTART:20221106T070000
END:STANDARD
BEGIN:DAYLIGHT
TZOFFSETFROM:-0600
TZOFFSETTO:-0500
TZNAME:CDT
DTSTART:20230312T080000
END:DAYLIGHT
BEGIN:STANDARD
TZOFFSETFROM:-0500
TZOFFSETTO:-0600
TZNAME:CST
DTSTART:20231105T070000
END:STANDARD
BEGIN:DAYLIGHT
TZOFFSETFROM:-0600
TZOFFSETTO:-0500
TZNAME:CDT
DTSTART:20240310T080000
END:DAYLIGHT
BEGIN:STANDARD
TZOFFSETFROM:-0500
TZOFFSETTO:-0600
TZNAME:CST
DTSTART:20241103T070000
END:STANDARD
END:VTIMEZONE
BEGIN:VEVENT
DTSTART;TZID=America/Menominee:20230225T100000
DTEND;TZID=America/Menominee:20230226T150000
DTSTAMP:20260422T205757
CREATED:20221206T004656Z
LAST-MODIFIED:20221206T004656Z
UID:6568-1677319200-1677423600@blizzardmn.com
SUMMARY:Apprentice Instructors - On-Snow Rainbow Exam
DESCRIPTION:Today is the day! The culmination of everything you’ve learned during the season — the prestigious Rainbow Exam (only about 150 Rainbow Instructors in our 60 year history!).  More details will be provided by your Program Directors Tim\, Ty & Sydney. \nAttend on Saturday\, Feb 25 OR Sunday\, Feb 26.  You do not attend both days. \nNOTE:  The Blizzard bus is available for transportation to Trollhaugen.  Please contact the office if you are interested.
URL:https://blizzardmn.com/event/apprentice-instructors-on-snow-rainbow-exam/
LOCATION:Trollhaugen\, 2232 100th Ave\, Dresser\, WI\, 54009
ATTACH;FMTTYPE=image/png:https://blizzardmn.com/wp-content/uploads/superkyds.png
END:VEVENT
END:VCALENDAR