BEGIN:VCALENDAR
VERSION:2.0
PRODID:-//Blizzard Ski and Snowboard School - ECPv6.15.20//NONSGML v1.0//EN
CALSCALE:GREGORIAN
METHOD:PUBLISH
X-WR-CALNAME:Blizzard Ski and Snowboard School
X-ORIGINAL-URL:https://blizzardmn.com
X-WR-CALDESC:Events for Blizzard Ski and Snowboard School
REFRESH-INTERVAL;VALUE=DURATION:PT1H
X-Robots-Tag:noindex
X-PUBLISHED-TTL:PT1H
BEGIN:VTIMEZONE
TZID:America/Menominee
BEGIN:DAYLIGHT
TZOFFSETFROM:-0600
TZOFFSETTO:-0500
TZNAME:CDT
DTSTART:20210314T080000
END:DAYLIGHT
BEGIN:STANDARD
TZOFFSETFROM:-0500
TZOFFSETTO:-0600
TZNAME:CST
DTSTART:20211107T070000
END:STANDARD
BEGIN:DAYLIGHT
TZOFFSETFROM:-0600
TZOFFSETTO:-0500
TZNAME:CDT
DTSTART:20220313T080000
END:DAYLIGHT
BEGIN:STANDARD
TZOFFSETFROM:-0500
TZOFFSETTO:-0600
TZNAME:CST
DTSTART:20221106T070000
END:STANDARD
BEGIN:DAYLIGHT
TZOFFSETFROM:-0600
TZOFFSETTO:-0500
TZNAME:CDT
DTSTART:20230312T080000
END:DAYLIGHT
BEGIN:STANDARD
TZOFFSETFROM:-0500
TZOFFSETTO:-0600
TZNAME:CST
DTSTART:20231105T070000
END:STANDARD
END:VTIMEZONE
BEGIN:VEVENT
DTSTART;TZID=America/Menominee:20221219T190000
DTEND;TZID=America/Menominee:20221219T210000
DTSTAMP:20260423T003605
CREATED:20221206T000516Z
LAST-MODIFIED:20221212T050007Z
UID:6550-1671476400-1671483600@blizzardmn.com
SUMMARY:Apprentice Instructors - On-Snow Clinic #1
DESCRIPTION:This is your first clinic on-snow! Grab your gear and head to the slopes for teaching and technical skills. Content will be provided by your Program Directors\, Tim\, Ty & Sydney.  Check your course syllabus and homework assignments! \nWe will meet at Hyland at 7:00 p.m. on snow in front of the chalet. If you’re late\, check the hills for Tim\, Sydney or Ty in their green jackets! \nThe evening ticket rate is just $22 (available starting at precisely 6:45pm). There is no free parking at the chalet. Plan a little extra time to park in the lot and ride the shuttle. \nThere will be no Apprentice clinic on December 26 during Winter Break.
URL:https://blizzardmn.com/event/apprentice-instructors-dryland-clinic-3/
LOCATION:Hyland Hills Ski Area\, 8800 Chalet Road\, Bloomington\, MN\, 55438
ATTACH;FMTTYPE=image/png:https://blizzardmn.com/wp-content/uploads/superkyds.png
END:VEVENT
END:VCALENDAR