BEGIN:VCALENDAR
VERSION:2.0
PRODID:-//Blizzard Ski and Snowboard School - ECPv6.15.20//NONSGML v1.0//EN
CALSCALE:GREGORIAN
METHOD:PUBLISH
X-ORIGINAL-URL:https://blizzardmn.com
X-WR-CALDESC:Events for Blizzard Ski and Snowboard School
REFRESH-INTERVAL;VALUE=DURATION:PT1H
X-Robots-Tag:noindex
X-PUBLISHED-TTL:PT1H
BEGIN:VTIMEZONE
TZID:America/Menominee
BEGIN:DAYLIGHT
TZOFFSETFROM:-0600
TZOFFSETTO:-0500
TZNAME:CDT
DTSTART:20210314T080000
END:DAYLIGHT
BEGIN:STANDARD
TZOFFSETFROM:-0500
TZOFFSETTO:-0600
TZNAME:CST
DTSTART:20211107T070000
END:STANDARD
BEGIN:DAYLIGHT
TZOFFSETFROM:-0600
TZOFFSETTO:-0500
TZNAME:CDT
DTSTART:20220313T080000
END:DAYLIGHT
BEGIN:STANDARD
TZOFFSETFROM:-0500
TZOFFSETTO:-0600
TZNAME:CST
DTSTART:20221106T070000
END:STANDARD
BEGIN:DAYLIGHT
TZOFFSETFROM:-0600
TZOFFSETTO:-0500
TZNAME:CDT
DTSTART:20230312T080000
END:DAYLIGHT
BEGIN:STANDARD
TZOFFSETFROM:-0500
TZOFFSETTO:-0600
TZNAME:CST
DTSTART:20231105T070000
END:STANDARD
END:VTIMEZONE
BEGIN:VEVENT
DTSTART;TZID=America/Menominee:20221205T190000
DTEND;TZID=America/Menominee:20221205T210000
DTSTAMP:20260423T003749
CREATED:20221206T000212Z
LAST-MODIFIED:20221206T001623Z
UID:6543-1670266800-1670274000@blizzardmn.com
SUMMARY:Apprentice Instructors - Dryland #1 & Parent Meeting
DESCRIPTION:Get your Apprentice Instructor experience kick-started tonight! Learn about expectations\, certification\, event calendar and more!\n7-8pm Apprentice Instructor & Parent meeting\n8-9pm Apprentice Instructors only
URL:https://blizzardmn.com/event/apprentice-instructors-dryland-1-parent-meeting/
LOCATION:Hopkins Eisenhower Community Center\, 1001 Highway 7\, Hopkins\, MN\, 55305
ATTACH;FMTTYPE=image/png:https://blizzardmn.com/wp-content/uploads/superkyds.png
END:VEVENT
END:VCALENDAR